BEGIN:VCALENDAR
VERSION:2.0
PRODID:-//ChamberMaster//Event Calendar 2.0//EN
METHOD:PUBLISH
X-PUBLISHED-TTL:P3D
REFRESH-INTERVAL:P3D
CALSCALE:GREGORIAN
BEGIN:VEVENT
DTSTART;VALUE=DATE:20240216
DTEND;VALUE=DATE:20240219
TRANSP:TRANSPARENT
X-MICROSOFT-CDO-ALLDAYEVENT:TRUE
SUMMARY:Imagine Dance Challenge
DESCRIPTION:JOIN US AND\n\n\n\n\n\n\nimagine a dance competition whose director grew up as a competitive dancer\, who understands the exhilaration of performing and the life changing memories that can be formed on the stage. imagine  a dance competition where student success and client satisfaction are our top priorities. imagine  a dance competition where every staff member is helpful\, well mannered\, and interested in YOUR studio's success. imagine  awards ceremonies that celebrate the STUDENTS and TEACHERS\, and strives to make each student feel important and successful. imagine  a dance competition that is actively creating partnerships to give students the opportunity to have an impact on their world through their love for dance. imagine  a dance competition that actively seeks feedback from our partner studios to guarantee that our vision is accomplished: To be the most positive\, safe and fun experience possible for ALL students\, parents and teachers who honor us by attending our show.\n\nImagine National Dance Challenge has joined forces with Breast Cancer Research Foundation not only to raise awareness\, but more importantly to help lead the charge in developing the cure for a disease that affects so many. BCRF is recognized as one of the most financially efficient non-profits in the country. They are the ONLY breast cancer organization with an "A+" from Charity Watch and have a 4-star rating from Charity Navigator. 91% of every dollar goes directly to Breast Cancer Research and Awareness Programs. Every time a performer steps on the imagine stage\, they are becoming part of the solution.\n\nOn behalf of the Star Dance Alliance\, it's our sincere pleasure to have the opportunity to offer this showcase where the dreams and talents of our young performers can come alive. We hope that you are as ready as we are\, because we truly consider this a chance for our children to make a positive difference in a fun\, safe\, and healthy competitive atmosphere.
X-ALT-DESC;FMTTYPE=text/html:<div data-node="5ba4bfa2c5582">\n<div>\n<h2 0px="" big="" color:="" font-size:="" line-height:="" padding:="" shoulders="">JOIN US AND</h2>\n</div>\n</div>\n\n<div data-node="5a53dbf759a3a">\n<div>\n<div>\n<p>imagine&hellip\;a dance competition whose director grew up as a competitive dancer\, who understands the exhilaration of performing and the life changing memories that can be formed on the stage.&nbsp\;imagine&hellip\;&nbsp\;a dance competition where student success and client satisfaction are our top priorities.&nbsp\;imagine&hellip\;&nbsp\;a dance competition where every staff member is helpful\, well mannered\, and interested in YOUR studio&rsquo\;s success.&nbsp\;imagine&hellip\;&nbsp\;awards ceremonies that celebrate the STUDENTS and TEACHERS\, and strives to make each student feel important and successful.&nbsp\;imagine&hellip\;&nbsp\;a dance competition that is actively creating partnerships to give students the opportunity to have an impact on their world through their love for dance.&nbsp\;imagine&hellip\;&nbsp\;a dance competition that actively seeks feedback from our partner studios to guarantee that our vision is accomplished: To be the most positive\, safe and fun experience possible for ALL students\, parents and teachers who honor us by attending our show.</p>\n\n<p>Imagine National Dance Challenge has joined forces with Breast Cancer Research Foundation not only to raise awareness\, but more importantly to help lead the charge in developing the cure for a disease that affects so many. BCRF is recognized as one of the most financially efficient non-profits in the country. They are the ONLY breast cancer organization with an &ldquo\;A+&rdquo\; from Charity Watch and have a 4-star rating from Charity Navigator. 91% of every dollar goes directly to Breast Cancer Research and Awareness Programs. Every time a performer steps on the imagine stage\, they are becoming part of the solution.</p>\n\n<p>On behalf of the Star Dance Alliance\, it&rsquo\;s our sincere pleasure to have the opportunity to offer this showcase where the dreams and talents of our young performers can come alive. We hope that you are as ready as we are\, because we truly consider this a chance for our children to make a positive difference in a fun\, safe\, and healthy competitive atmosphere.</p>\n</div>\n</div>\n</div>\n
LOCATION:Sauk Prairie River Arts Center
UID:e.1184.31565
SEQUENCE:3
DTSTAMP:20260420T003205Z
URL:http://members.saukprairie.com/events/details/imagine-dance-challenge-31565
END:VEVENT

END:VCALENDAR
