BEGIN:VCALENDAR
VERSION:2.0
PRODID:-//ChamberMaster//Event Calendar 2.0//EN
METHOD:PUBLISH
X-PUBLISHED-TTL:P3D
REFRESH-INTERVAL:P3D
CALSCALE:GREGORIAN
BEGIN:VEVENT
DTSTART:20160923T223000Z
DTEND:20160924T003000Z
X-MICROSOFT-CDO-ALLDAYEVENT:FALSE
SUMMARY:Impressions of Hamilton: 2009-2016 Opening Reception
DESCRIPTION:The Hamilton Wood Type Museum is the world's largest museum of wood type\, and is an industry leader in the restoration and preservation of this art form. Jim Moran\, museum director\, will be on hand to give a talk and describe the Hamilton legacy. \n\nAlso present will be the printmaking students of Madison College and the Tripp Museum of Prairie du Sac.
X-ALT-DESC;FMTTYPE=text/html:The Hamilton Wood Type Museum is the world&#39\;s largest museum of wood type\, and is an industry leader in the restoration and preservation of this art form. Jim Moran\, museum director\, will be on hand to give a talk and describe the Hamilton legacy.&nbsp\;<br />\nAlso present will be the printmaking students of Madison College and the Tripp Museum of Prairie du Sac.
LOCATION:River Arts Center\, 105 9th St. Prairie du Sac
UID:e.1184.8537
SEQUENCE:3
DTSTAMP:20260425T193026Z
URL:http://members.saukprairie.com/events/details/impressions-of-hamilton-2009-2016-opening-reception-09-23-2016-8537
END:VEVENT

END:VCALENDAR
