BEGIN:VCALENDAR
VERSION:2.0
PRODID:-//ChamberMaster//Event Calendar 2.0//EN
METHOD:PUBLISH
X-PUBLISHED-TTL:P3D
REFRESH-INTERVAL:P3D
CALSCALE:GREGORIAN
BEGIN:VEVENT
DTSTART:20191016T193000Z
DTEND:20191016T203000Z
X-MICROSOFT-CDO-ALLDAYEVENT:FALSE
SUMMARY:Incredible Bats\, Tarantulas & Skunks
DESCRIPTION:Bats\, tarantulas and skunks will visit the Ruth Culver Community Library Wednesday\, October 16 at 2:30 p.m.  The Petersons will bring lots of animals of the "EEK!" variety on this Early Release Wednesday. Talk\, learn\, and touch\, if you dare! Contact Beth at 643-8318 with questions.
X-ALT-DESC;FMTTYPE=text/html:Bats\, tarantulas and skunks will visit the Ruth Culver Community Library Wednesday\, October 16 at 2:30 p.m.&nbsp\; The Petersons will bring lots of animals of the &quot\;EEK!&quot\; variety on this Early Release Wednesday. Talk\, learn\, and touch\, if you dare! Contact Beth at 643-8318 with questions.
LOCATION:Ruth Culver Community Library 540 Water Street\, Prairie du Sac
UID:e.1184.23146
SEQUENCE:3
DTSTAMP:20260423T095232Z
URL:http://members.saukprairie.com/events/details/incredible-bats-tarantulas-skunks-23146
END:VEVENT

END:VCALENDAR
