BEGIN:VCALENDAR
VERSION:2.0
PRODID:-//ChamberMaster//Event Calendar 2.0//EN
METHOD:PUBLISH
X-PUBLISHED-TTL:P3D
REFRESH-INTERVAL:P3D
CALSCALE:GREGORIAN
BEGIN:VEVENT
DTSTART;VALUE=DATE:20161005
DTEND;VALUE=DATE:20161006
TRANSP:TRANSPARENT
X-MICROSOFT-CDO-ALLDAYEVENT:TRUE
SUMMARY:Indian-Pioneer Day
DESCRIPTION:Come experience the past at the 27th Indian-Pioneer Day. There are clues and story sheets at sites around Sauk City and Prairie du Sac. Presenters will help find clues and make discoveries about Sauk Prairie. For more information\, contact the Sauk City Historic Preservation Committee
X-ALT-DESC;FMTTYPE=text/html:Come experience the past at the 27th Indian-Pioneer Day. There are clues and story sheets at sites around Sauk City and Prairie du Sac. Presenters will help find clues and make discoveries about Sauk Prairie. For more information\, contact the Sauk City Historic Preservation Committee
LOCATION:
UID:e.1184.9380
SEQUENCE:3
DTSTAMP:20260425T174215Z
URL:http://members.saukprairie.com/events/details/indian-pioneer-day-9380
END:VEVENT

END:VCALENDAR
