BEGIN:VCALENDAR
VERSION:2.0
PRODID:-//ChamberMaster//Event Calendar 2.0//EN
METHOD:PUBLISH
X-PUBLISHED-TTL:P3D
REFRESH-INTERVAL:P3D
CALSCALE:GREGORIAN
BEGIN:VEVENT
DTSTART:20220113T003000Z
DTEND:20220113T014500Z
X-MICROSOFT-CDO-ALLDAYEVENT:FALSE
SUMMARY:Indivisible Sauk Prairie Monthly Meeting
DESCRIPTION:Indivisible Sauk Prairie is a grassroots community group that is part of the nationwide Indivisible movement to elect progressive leaders\, rebuild our democracy\, and advocate for progressive policies. We work to hold our members of the US Congress and the Wisconsin Legislature accountable. We strive to be positively involved in our community\, and promote awareness of progressive values. We work to put government power into the hands of the people.
X-ALT-DESC;FMTTYPE=text/html:Indivisible Sauk Prairie is a grassroots community group that is part of the nationwide Indivisible movement to elect progressive leaders\, rebuild our democracy\, and advocate for progressive policies. We work to hold our members of the US Congress and the Wisconsin Legislature accountable. We strive to be positively involved in our community\, and promote awareness of progressive values. We work to put government power into the hands of the people.
LOCATION:George Culver Library
UID:e.1184.26978
SEQUENCE:3
DTSTAMP:20260421T174257Z
URL:http://members.saukprairie.com/events/details/indivisible-sauk-prairie-monthly-meeting-26978
END:VEVENT

END:VCALENDAR
