BEGIN:VCALENDAR
VERSION:2.0
PRODID:-//ChamberMaster//Event Calendar 2.0//EN
METHOD:PUBLISH
X-PUBLISHED-TTL:P3D
REFRESH-INTERVAL:P3D
CALSCALE:GREGORIAN
BEGIN:VEVENT
DTSTART:20201113T160000Z
DTEND:20201205T110000Z
X-MICROSOFT-CDO-ALLDAYEVENT:FALSE
SUMMARY:Indoor Holiday Market
DESCRIPTION:Join River Arts Inc and support local artists this holiday shopping season! From Nov 13 - Dec 5\, visit our indoor holiday market featuring all local artists and specialty holiday gift items. Our studio space will be transformed into a covid-safe shopping market hosting displays from guest artists for a limited time only! Pottery\, jewelry\, candles\, ornaments\, fiber items\, and more will all be available to peruse during our open hours of Thurs-Sat\, 10am-5pm. Limit of 10 shoppers at a time\, masks required. Find the perfect handmade gifts this holiday season!
X-ALT-DESC;FMTTYPE=text/html:Join River Arts Inc and support local artists this holiday shopping season! From Nov 13 - Dec 5\, visit our indoor holiday market featuring all local artists and specialty holiday gift items. Our studio space will be transformed into a covid-safe shopping market hosting displays from guest artists for a limited time only! Pottery\, jewelry\, candles\, ornaments\, fiber items\, and more will all be available to peruse during our open hours of Thurs-Sat\, 10am-5pm. Limit of 10 shoppers at a time\, masks required. Find the perfect handmade gifts this holiday season!
LOCATION:590 Water Street Prairie du Sac\, WI 53578
UID:e.1184.26118
SEQUENCE:3
DTSTAMP:20260422T121119Z
URL:http://members.saukprairie.com/events/details/indoor-holiday-market-26118
END:VEVENT

END:VCALENDAR
