BEGIN:VCALENDAR
VERSION:2.0
PRODID:-//ChamberMaster//Event Calendar 2.0//EN
METHOD:PUBLISH
X-PUBLISHED-TTL:P3D
REFRESH-INTERVAL:P3D
CALSCALE:GREGORIAN
BEGIN:VEVENT
DTSTART:20190710T180000Z
DTEND:20190710T190000Z
X-MICROSOFT-CDO-ALLDAYEVENT:FALSE
SUMMARY:Indoor Star Party
DESCRIPTION:Visit the library to explore the sky from inside our very own planetarium! Stations will also be set up for kids to create and discover stars.
X-ALT-DESC;FMTTYPE=text/html:Visit the library to explore the sky from inside our very own planetarium! Stations will also be set up for kids to create and discover stars.
LOCATION:515 Water Street Sauk City\, WI 53583
UID:e.1184.22514
SEQUENCE:3
DTSTAMP:20260423T141438Z
URL:http://members.saukprairie.com/events/details/indoor-star-party-22514
END:VEVENT

END:VCALENDAR
