BEGIN:VCALENDAR
VERSION:2.0
PRODID:-//ChamberMaster//Event Calendar 2.0//EN
METHOD:PUBLISH
X-PUBLISHED-TTL:P3D
REFRESH-INTERVAL:P3D
CALSCALE:GREGORIAN
BEGIN:VEVENT
DTSTART:20180209T160000Z
DTEND:20180209T180000Z
X-MICROSOFT-CDO-ALLDAYEVENT:FALSE
SUMMARY:Indoor Winter Olympics
DESCRIPTION:Why just watch when you could compete? The library is hosting its own XXIII Indoor (and warm) Winter Olympics.\n\nEnjoy games \,crafts\, and special treats as you "Go for the Gold" on some of your favorite winter events.\n\nAll welcome. Children under 7 must be accompanied.
X-ALT-DESC;FMTTYPE=text/html:<p>Why just watch when you could compete? The library is hosting its own XXIII Indoor (and warm) Winter Olympics.</p>\n\n<p>Enjoy games \,crafts\, and special treats as you &quot\;Go for the Gold&quot\; on some of your favorite winter events.</p>\n\n<p>All welcome. Children under 7 must be accompanied.</p>\n
LOCATION:
UID:e.1184.14609
SEQUENCE:3
DTSTAMP:20260424T162657Z
URL:http://members.saukprairie.com/events/details/indoor-winter-olympics-14609
END:VEVENT

END:VCALENDAR
