BEGIN:VCALENDAR
VERSION:2.0
PRODID:-//ChamberMaster//Event Calendar 2.0//EN
METHOD:PUBLISH
X-PUBLISHED-TTL:P3D
REFRESH-INTERVAL:P3D
CALSCALE:GREGORIAN
BEGIN:VEVENT
DTSTART:20160405T163000Z
DTEND:20160405T183000Z
X-MICROSOFT-CDO-ALLDAYEVENT:FALSE
SUMMARY:Industry Roundtable - Family Business
DESCRIPTION:Industry roundtables -\n\n \n\nWe have identified 7 industries that we will meet with in 2016 between January and June.  Our agenda for these meetings is  NO AGENDA.   Simply put\, it is an opportunity for local industry leaders to come together and share ideas\, brainstorm\, develop relationships\, collaborate\, etc. \n\n \n\n	How do you ensure entitlement does not creep in your family business? What do you do if it does?\n	How do you choose a successor when you have highly qualified family and non-family candidates?\n	How does your family create accountability for performance at the management AND shareholder level?
X-ALT-DESC;FMTTYPE=text/html:<em><strong>Industry roundtables -</strong></em><br />\n&nbsp\;<br />\nWe have identified 7 industries that we will meet with in 2016 between January and June.&nbsp\; Our agenda for these meetings is &nbsp\;NO AGENDA. &nbsp\; Simply put\, it is an opportunity for local industry leaders to come together and share ideas\, brainstorm\, develop relationships\, collaborate\, etc.&nbsp\;<br />\n&nbsp\;\n<ol>\n	<li>How do you ensure entitlement does not creep in your family business? What do you do if it does?</li>\n	<li>How do you choose a successor when you have highly qualified family and non-family candidates?</li>\n	<li>How does your family create accountability for performance at the management AND shareholder level?</li>\n</ol>\n
LOCATION:
UID:e.1184.4824
SEQUENCE:3
DTSTAMP:20260426T033705Z
URL:http://members.saukprairie.com/events/details/industry-roundtable-family-business-04-05-2016-4824
END:VEVENT

END:VCALENDAR
