BEGIN:VCALENDAR
VERSION:2.0
PRODID:-//ChamberMaster//Event Calendar 2.0//EN
METHOD:PUBLISH
X-PUBLISHED-TTL:P3D
REFRESH-INTERVAL:P3D
CALSCALE:GREGORIAN
BEGIN:VEVENT
DTSTART:20180404T190000Z
DTEND:20180404T203000Z
X-MICROSOFT-CDO-ALLDAYEVENT:FALSE
SUMMARY:Industry Roundtable - Restaurants
DESCRIPTION:Industry roundtables -\n\n \n\nOur agenda for these meetings is  NO AGENDA.   Simply put\, it is an opportunity for local industry leaders to come together and share ideas\, brainstorm\, develop relationships\, collaborate\, etc.
X-ALT-DESC;FMTTYPE=text/html:<em><strong>Industry roundtables -</strong></em><br />\n&nbsp\;<br />\nOur agenda for these meetings is &nbsp\;NO AGENDA. &nbsp\; Simply put\, it is an opportunity for local industry leaders to come together and share ideas\, brainstorm\, develop relationships\, collaborate\, etc.&nbsp\;<br />\n&nbsp\;
LOCATION:Sauk Prairie Welcome Center 109 Phillips Blvd.\, Sauk City
UID:e.1184.14691
SEQUENCE:3
DTSTAMP:20260424T143713Z
URL:http://members.saukprairie.com/events/details/industry-roundtable-restaurants-14691
END:VEVENT

END:VCALENDAR
