BEGIN:VCALENDAR
VERSION:2.0
PRODID:-//ChamberMaster//Event Calendar 2.0//EN
METHOD:PUBLISH
X-PUBLISHED-TTL:P3D
REFRESH-INTERVAL:P3D
CALSCALE:GREGORIAN
BEGIN:VEVENT
DTSTART:20180412T220000Z
DTEND:20180412T230000Z
X-MICROSOFT-CDO-ALLDAYEVENT:FALSE
SUMMARY:Information Session
DESCRIPTION:Join Maplewood of Sauk Prairie for an information session at the Ruth Culver Library on Thursday\, April 12 from 5-6pm. It's your opportunity to ask questions about the leader in rehabilitation and the construction progress.
X-ALT-DESC;FMTTYPE=text/html:Join Maplewood of Sauk Prairie for an information session at the Ruth Culver Library on Thursday\, April 12 from 5-6pm. It&#39\;s your opportunity to ask questions about the leader in rehabilitation and the construction progress.&nbsp\;
LOCATION:Ruth Culver Library
UID:e.1184.17758
SEQUENCE:3
DTSTAMP:20260424T132508Z
URL:http://members.saukprairie.com/events/details/information-session-17758
END:VEVENT

END:VCALENDAR
