BEGIN:VCALENDAR
VERSION:2.0
PRODID:-//ChamberMaster//Event Calendar 2.0//EN
METHOD:PUBLISH
X-PUBLISHED-TTL:P3D
REFRESH-INTERVAL:P3D
CALSCALE:GREGORIAN
BEGIN:VEVENT
DTSTART:20161210T170000Z
DTEND:20161210T190000Z
X-MICROSOFT-CDO-ALLDAYEVENT:FALSE
SUMMARY:Inga Witscher Around the Farm Table Holiday Cooking Demo
DESCRIPTION:Back by popular demand\, join Wisconsin Public Television's "Around the Farm Table" host Inga Witscher as she brings "Savory and Sweet\, canap s and cooking for your holiday party" to the J.S. Tripp Museum\, Saturday\, December 10\, at 11:00 AM.\n\n\n\nGo home full of recipes to use at your upcoming holiday parties\, laughter\, and holiday magic! Experience the 1912 historic Tripp Museum in all its Christmas glory. And\, it's the perfect time to pick up Christmas gifts from area authors\, too. High on wish lists this year are "What Milly Did\," the remarkable story of area recycling pioneer Milly Zantow\, and "Joseph Schorer and His Breweries in Sauk City and Elroy\, Wisconsin." Author Jody Kapp will be present to sign copies of the Sauk Prairie Images of America book\, featuring over 200 images of the area. Make a day of it! Enjoy the demo\, lunch\, and shopping in the Sauk Prairie Riverway.\n\n\n\nTickets: www.holidayaroundthefarm.brownpapertickets.com
X-ALT-DESC;FMTTYPE=text/html:Back by popular demand\, join Wisconsin Public Television&#39\;s &quot\;Around the Farm Table&quot\; host Inga Witscher as she brings &quot\;Savory and Sweet\, canap&eacute\;s and cooking for your holiday party&quot\; to the J.S. Tripp Museum\, Saturday\, December 10\, at 11:00 AM.<br />\n<br />\nGo home full of recipes to use at your upcoming holiday parties\, laughter\, and holiday magic! Experience the 1912 historic Tripp Museum in all its Christmas glory. And\, it&#39\;s the perfect time to pick up Christmas gifts from area authors\, too. High on wish lists this year are &quot\;What Milly Did\,&quot\; the remarkable story of area recycling pioneer Milly Zantow\, and &quot\;Joseph Schorer and His Breweries in Sauk City and Elroy\, Wisconsin.&quot\; Author Jody Kapp will be present to sign copies of the Sauk Prairie Images of America book\, featuring over 200 images of the area. Make a day of it! Enjoy the demo\, lunch\, and shopping in the Sauk Prairie Riverway.<br />\n<br />\nTickets: <a href="http://www.holidayaroundthefarm.brownpapertickets.com/" rel="nofollow nofollow" target="_blank">www.holidayaroundthefarm.brownpapertickets.com</a>
LOCATION:Tripp Heritage Museum 565 Water Street\, Prairie du Sac\, WI 53578
UID:e.1184.9476
SEQUENCE:3
DTSTAMP:20260425T142153Z
URL:http://members.saukprairie.com/events/details/inga-witscher-around-the-farm-table-holiday-cooking-demo-9476
END:VEVENT

END:VCALENDAR
