BEGIN:VCALENDAR
VERSION:2.0
PRODID:-//ChamberMaster//Event Calendar 2.0//EN
METHOD:PUBLISH
X-PUBLISHED-TTL:P3D
REFRESH-INTERVAL:P3D
CALSCALE:GREGORIAN
BEGIN:VEVENT
DTSTART:20191125T213000Z
DTEND:20191125T223000Z
X-MICROSOFT-CDO-ALLDAYEVENT:FALSE
SUMMARY:Innovators Club: Brain Hats
DESCRIPTION:School-age children are invited to the Ruth Culver Community Library's Innovators Club Monday\, November 25 from 3:30 p.m. to 4:30 p.m.  Try something new\; do something in a new way! This month we will explore the science of Brain Hats. Chiropractor  Jen Forester will teach us about brain control with illustrated hats to take home\; enhanced with activities! Contact Beth at 643-8318 with questions.
X-ALT-DESC;FMTTYPE=text/html:School-age children are invited to the Ruth Culver Community Library&#39\;s Innovators Club Monday\, November 25 from 3:30 p.m. to 4:30 p.m.&nbsp\; Try something new\; do something in a new way! This month we will explore the science of Brain Hats. Chiropractor&nbsp\; Jen Forester will teach us about brain control with illustrated hats to take home\; enhanced with activities! Contact Beth at 643-8318 with questions.
LOCATION:Ruth Culver Community Library 540 Water Street\, Prairie du Sac
UID:e.1184.23148
SEQUENCE:3
DTSTAMP:20260423T085602Z
URL:http://members.saukprairie.com/events/details/innovators-club-brain-hats-23148
END:VEVENT

END:VCALENDAR
