BEGIN:VCALENDAR
VERSION:2.0
PRODID:-//ChamberMaster//Event Calendar 2.0//EN
METHOD:PUBLISH
X-PUBLISHED-TTL:P3D
REFRESH-INTERVAL:P3D
CALSCALE:GREGORIAN
BEGIN:VEVENT
DTSTART:20190930T203000Z
DTEND:20190930T213000Z
X-MICROSOFT-CDO-ALLDAYEVENT:FALSE
SUMMARY:Innovators Club: Egg Drop
DESCRIPTION:School-age children are invited to the Ruth Culver Community Library's Innovators Club Monday\, September 30 from 3:30 p.m. to 4:30 p.m.  Try something new\; do something in a new way! This month we will explore engineering with an egg drop! Can you construct a safe way to drop an egg without it breaking? Prizes for those who do! Contact Beth at 643-8318 with questions.
X-ALT-DESC;FMTTYPE=text/html:School-age children are invited to the Ruth Culver Community Library&#39\;s Innovators Club Monday\, September 30 from 3:30 p.m. to 4:30 p.m.&nbsp\; Try something new\; do something in a new way! This month we will explore engineering with an egg drop! Can you construct a safe way to drop an egg without it breaking? Prizes for those who do! Contact Beth at 643-8318 with questions.
LOCATION:Ruth Culver Community Library 540 Water Street\, Prairie du Sac
UID:e.1184.23139
SEQUENCE:3
DTSTAMP:20260423T113054Z
URL:http://members.saukprairie.com/events/details/innovators-club-egg-drop-23139
END:VEVENT

END:VCALENDAR
