BEGIN:VCALENDAR
VERSION:2.0
PRODID:-//ChamberMaster//Event Calendar 2.0//EN
METHOD:PUBLISH
X-PUBLISHED-TTL:P3D
REFRESH-INTERVAL:P3D
CALSCALE:GREGORIAN
BEGIN:VEVENT
DTSTART:20191028T203000Z
DTEND:20191028T213000Z
X-MICROSOFT-CDO-ALLDAYEVENT:FALSE
SUMMARY:Innovators Club: Pool Noodle Art
DESCRIPTION:School-age children are invited to the Ruth Culver Community Library's Innovators Club Monday\, October 28 from 3:30 p.m. to 4:30 p.m.  Try something new\; do something in a new way! Summer is over but we can still have fun crafting with Pool Noodles this month! Contact Beth at 643-8318 with questions.
X-ALT-DESC;FMTTYPE=text/html:School-age children are invited to the Ruth Culver Community Library&#39\;s Innovators Club Monday\, October 28 from 3:30 p.m. to 4:30 p.m.&nbsp\; Try something new\; do something in a new way! Summer is over but we can still have fun crafting with Pool Noodles this month! Contact Beth at 643-8318 with questions.
LOCATION:Ruth Culver Community Library 540 Water Street\, Prairie du Sac
UID:e.1184.23147
SEQUENCE:3
DTSTAMP:20260423T102538Z
URL:http://members.saukprairie.com/events/details/innovators-club-pool-noodle-art-23147
END:VEVENT

END:VCALENDAR
