BEGIN:VCALENDAR
VERSION:2.0
PRODID:-//ChamberMaster//Event Calendar 2.0//EN
METHOD:PUBLISH
X-PUBLISHED-TTL:P3D
REFRESH-INTERVAL:P3D
CALSCALE:GREGORIAN
BEGIN:VEVENT
DTSTART:20190116T203000Z
DTEND:20190116T213000Z
X-MICROSOFT-CDO-ALLDAYEVENT:FALSE
SUMMARY:Insect Ambassadors
DESCRIPTION:Join UW Entomology Department presenters at the Ruth Culver Community Library Wednesday\, January 16 at 2:30 p.m. as they share information and LIVE insects like manioca caterpillars and hissing cockroaches!  This program is appropriate for school-age children. Contact Beth at 643-8318 with questions.
X-ALT-DESC;FMTTYPE=text/html:Join UW Entomology Department presenters at the Ruth Culver Community Library Wednesday\, January 16 at 2:30 p.m. as they share information and LIVE insects like manioca caterpillars and hissing cockroaches!&nbsp\; This program is appropriate for school-age children. Contact Beth at 643-8318 with questions.
LOCATION:Ruth Culver Community Library 540 Water Street\, Prairie du Sac
UID:e.1184.21613
SEQUENCE:3
DTSTAMP:20260423T225826Z
URL:http://members.saukprairie.com/events/details/insect-ambassadors-21613
END:VEVENT

END:VCALENDAR
