BEGIN:VCALENDAR
VERSION:2.0
PRODID:-//ChamberMaster//Event Calendar 2.0//EN
METHOD:PUBLISH
X-PUBLISHED-TTL:P3D
REFRESH-INTERVAL:P3D
CALSCALE:GREGORIAN
BEGIN:VEVENT
DTSTART:20190803T150000Z
DTEND:20190803T160000Z
X-MICROSOFT-CDO-ALLDAYEVENT:FALSE
SUMMARY:Inspired by Wisconsin's Native Plants: Talk by Susan Carpenter
DESCRIPTION:Inspired by Wisconsin's Native Plants: A lecture by Susan Carpenter\n\nSaturday\, August 3\, 2019 | 10am-11am | FREE\, all ages\n\n590 Water St\, Prairie du Sac\, WI 53578\n\nJoin us as we welcome Susan Carpenter of UW Madison Arboretum for a free presentation on Wisconsin's native plants. Susan will discuss identification\, ecology\, and maintenance of several native species as part of a celebration of "Starry Prairie"\, a new mural on the back of River Arts on Water Gallery. The mural\, created by Sauk Prairie artists Mary Dickey and Rhonda Nass\, celebrates the Great Sauk State Trail and various Wisconsin native species.\n\nSusan Carpenter is the native plant gardener at the UW Madison Arboretum\, where she works with students and community volunteers to maintain a 4-acre garden representing the plant communities of southern Wisconsin. She leads a pollinator conservation project that involves the public in monitoring and studying native bumble bees\, including the federally endangered rusty-patched bumble bee.\n\nWeather permitting\, part of this presentation will take place outside on the deck\, facing the mural. Seating is limited and general admission.
X-ALT-DESC;FMTTYPE=text/html:<p><strong>Inspired by Wisconsin&rsquo\;s Native Plants: A lecture by Susan Carpenter</strong></p>\n\n<p><strong>Saturday\, August 3\, 2019 | 10am-11am | FREE\, all ages</strong></p>\n\n<p><strong>590 Water St\, Prairie du Sac\, WI 53578</strong></p>\n\n<p>Join us as we welcome Susan Carpenter of UW Madison Arboretum for a free presentation on Wisconsin&rsquo\;s native plants. Susan will discuss identification\, ecology\, and maintenance of several native species as part of a celebration of &ldquo\;Starry Prairie&rdquo\;\, a new mural on the back of River Arts on Water Gallery. The mural\, created by Sauk Prairie artists Mary Dickey and Rhonda Nass\, celebrates the Great Sauk State Trail and various Wisconsin native species.</p>\n\n<p>Susan Carpenter is the native plant gardener at the UW&ndash\;Madison Arboretum\, where she works with students and community volunteers to maintain a 4-acre garden representing the plant communities of southern Wisconsin. She leads a pollinator conservation project that involves the public in monitoring and studying native bumble bees\, including the federally endangered rusty-patched bumble bee.</p>\n\n<p>Weather permitting\, part of this presentation will take place outside on the deck\, facing the mural. Seating is limited and general admission.&nbsp\;</p>\n
LOCATION:River Arts Gallery 590 Water St Prairie du Sac
UID:e.1184.22360
SEQUENCE:3
DTSTAMP:20260423T124612Z
URL:http://members.saukprairie.com/events/details/inspired-by-wisconsin-s-native-plants-talk-by-susan-carpenter-22360
END:VEVENT

END:VCALENDAR
