BEGIN:VCALENDAR
VERSION:2.0
PRODID:-//ChamberMaster//Event Calendar 2.0//EN
METHOD:PUBLISH
X-PUBLISHED-TTL:P3D
REFRESH-INTERVAL:P3D
CALSCALE:GREGORIAN
BEGIN:VEVENT
DTSTART:20200122T000000Z
DTEND:20200122T014500Z
X-MICROSOFT-CDO-ALLDAYEVENT:FALSE
SUMMARY:Instant Pot 101
DESCRIPTION:You may have heard about the increasing popularity of the Instant Pot. See and taste for yourself why so many are raving about this new electric pressure cooker with an introduction at the Ruth Culver Community Library Tuesday\, January 21 at 6:00 p.m.  Are you curious if they're worth buying? We'll provide an overview of what the Instant Pot can do with tips to get started more successfully. A cooking demonstration will offer samples to try. We'll provide some resources and recipes\, as well as discuss some helpful accessories. Registration is required and is limited to 24 participants. Thank you to the Friends of the Ruth Culver Community Library for sponsoring this event.
X-ALT-DESC;FMTTYPE=text/html:You may have heard about the increasing popularity of the Instant Pot. See and taste for yourself why so many are raving about this new electric pressure cooker with an introduction at the Ruth Culver Community Library Tuesday\, January 21 at 6:00 p.m.&nbsp\; Are you curious if they&rsquo\;re worth buying? We&rsquo\;ll provide an overview of what the Instant Pot can do with tips to get started more successfully. A cooking demonstration will offer samples to try. We&rsquo\;ll provide some resources and recipes\, as well as discuss some helpful accessories. Registration is required and is limited to 24 participants. Thank you to the Friends of the Ruth Culver Community Library for sponsoring this event.&nbsp\;
LOCATION:Ruth Culver Community Library 540 Water Street\, Prairie du Sac
UID:e.1184.23958
SEQUENCE:3
DTSTAMP:20260423T070332Z
URL:http://members.saukprairie.com/events/details/instant-pot-101-01-21-2020-23958
END:VEVENT

END:VCALENDAR
