BEGIN:VCALENDAR
VERSION:2.0
PRODID:-//ChamberMaster//Event Calendar 2.0//EN
METHOD:PUBLISH
X-PUBLISHED-TTL:P3D
REFRESH-INTERVAL:P3D
CALSCALE:GREGORIAN
BEGIN:VEVENT
DTSTART;VALUE=DATE:20240815
DTEND;VALUE=DATE:20240816
TRANSP:TRANSPARENT
X-MICROSOFT-CDO-ALLDAYEVENT:TRUE
SUMMARY:Interactive Poverty Experience
DESCRIPTION:Poverty is a reality for many individuals and families. But unless you've experienced poverty\, it's difficult to truly understand. The Interactive Poverty Experience helps bridge that gap from misconception to understanding by exposing you to the realities of poverty. \n\nIt is not a fictional game.  Rather\, you will take on the identity of a real person living in poverty. Over the course of 90 minutes\, you must live a month in poverty trying to maintain your basic needs. \n\nAt the conclusion of the role-play\, you are invited to discuss your experience and what you've learned. Everyone leaves with a challenge to discover what their next steps will be toward being a part of the poverty solution.\n\n\n\nRegister to attend the:\n\nMorning Session - August 15\, 8:30 - 11:30am\n\n-or-\n\nEvening Session - August 15\, 5:30 - 8:30pm\n\n\n\nRefreshments will be available\n\n\n\nREGISTER TODAY!\n\n\n\nFunding for this event was made possible with a generous grant from The Darlene Ballweg Fund at the Community Foundation of South Central Wisconsin.
X-ALT-DESC;FMTTYPE=text/html:<p>Poverty is a reality for many individuals and families.&nbsp\;But&nbsp\;unless you&rsquo\;ve experienced&nbsp\;poverty\, it&rsquo\;s difficult to truly understand.&nbsp\;The Interactive Poverty Experience helps bridge that&nbsp\;gap from misconception to understanding by exposing you to the realities of poverty.&nbsp\;</p>\n\n<p>It is not a fictional game.&nbsp\; Rather\, you will take on the identity of a real person living in poverty. Over the course of 90 minutes\, you must&nbsp\;live a month in poverty trying to maintain your basic needs.&nbsp\;</p>\n\n<p>At the conclusion of the role-play\, you are invited to discuss your experience and what you&#39\;ve learned. Everyone leaves with a challenge to discover what their next steps will be toward being a part of the poverty solution.<br />\n<br />\n<u>Register to attend the:</u><br />\n<strong>Morning Session - August 15\, 8:30 - 11:30am<br />\n-or-<br />\nEvening Session - August 15\, 5:30 - 8:30pm</strong><br />\n<br />\nRefreshments will be available<br />\n<br />\n<a href="https://www.makingservicepersonal.org/programs-services/ip-experience">REGISTER TODAY!</a><br />\n<br />\nFunding for this event was made possible with a generous grant from The Darlene Ballweg Fund at the Community Foundation of South Central Wisconsin.</p>\n
LOCATION:
UID:e.1184.32813
SEQUENCE:3
DTSTAMP:20260419T162301Z
URL:http://members.saukprairie.com/events/details/interactive-poverty-experience-morning-32813
END:VEVENT

END:VCALENDAR
