BEGIN:VCALENDAR
VERSION:2.0
PRODID:-//ChamberMaster//Event Calendar 2.0//EN
METHOD:PUBLISH
X-PUBLISHED-TTL:P3D
REFRESH-INTERVAL:P3D
CALSCALE:GREGORIAN
BEGIN:VEVENT
DTSTART:20230225T180000Z
DTEND:20230225T220000Z
X-MICROSOFT-CDO-ALLDAYEVENT:FALSE
SUMMARY:Intermediate Acrylic Pour Painting with Mary Ringelstetter
DESCRIPTION:This workshop is meant for students who have some experience in acrylic pour painting\, or those who attended the January 2023 introductory course. Instructor Mary Ringelstetter will guide students through more advanced pour techniques and color mixing options. Each student will create up to 3 canvases during class\, depending on the speed with which you work. Class size is extremely limited and early registration is recommended!
X-ALT-DESC;FMTTYPE=text/html:<span style="color:rgb(0\, 0\, 0)\; font-family:arial\,helvetica\,sans-serif">This workshop is meant for students who have some experience in acrylic pour painting\, or those who attended the January 2023 introductory course. Instructor Mary Ringelstetter will guide students through more advanced pour techniques and color mixing options. Each student will create up to 3 canvases during class\, depending on the speed with which you work. Class size is extremely limited and early registration is recommended!</span>
LOCATION:590 Water St\, Prairie du Sac\, WI 53578
UID:e.1184.28215
SEQUENCE:3
DTSTAMP:20260420T180511Z
URL:http://members.saukprairie.com/events/details/intermediate-acrylic-pour-painting-with-mary-ringelstetter-28215
END:VEVENT

END:VCALENDAR
