BEGIN:VCALENDAR
VERSION:2.0
PRODID:-//ChamberMaster//Event Calendar 2.0//EN
METHOD:PUBLISH
X-PUBLISHED-TTL:P3D
REFRESH-INTERVAL:P3D
CALSCALE:GREGORIAN
BEGIN:VEVENT
DTSTART:20210826T140000Z
DTEND:20210826T220000Z
X-MICROSOFT-CDO-ALLDAYEVENT:FALSE
SUMMARY:International Dog Day
DESCRIPTION:Come celebrate International Dog Day with us!\n\nBring you four legged best friend shopping!\n\n*Treats for dogs\n\n* Sale on dog related items\n\n* A doggie basket give-away prize\n\n* Fundraiser for the Jake and Winston fund through Four Paws Veterinary Clinic.\n\nThe Fund helps pet owners pay for vet bills and medications.
X-ALT-DESC;FMTTYPE=text/html:<div class="kvgmc6g5 cxmmr5t8 oygrvhab hcukyx3x c1et5uql" style="overflow-wrap: break-word\; margin: 0px\; font-family: &quot\;Segoe UI Historic&quot\;\, &quot\;Segoe UI&quot\;\, Helvetica\, Arial\, sans-serif\; color: rgb(5\, 5\, 5)\; font-size: 15px\;">Come celebrate International Dog Day with us!<br />\nBring you four legged best friend shopping!</div>\n\n<div class="o9v6fnle cxmmr5t8 oygrvhab hcukyx3x c1et5uql" style="overflow-wrap: break-word\; margin: 0.5em 0px 0px\; font-family: &quot\;Segoe UI Historic&quot\;\, &quot\;Segoe UI&quot\;\, Helvetica\, Arial\, sans-serif\; color: rgb(5\, 5\, 5)\; font-size: 15px\;">*Treats for dogs<br />\n* Sale on dog related items<br />\n* A doggie basket give-away prize<br />\n* Fundraiser for the Jake and Winston fund through Four Paws Veterinary Clinic.<br />\nThe Fund helps pet owners pay for vet bills and medications.</div>\n
LOCATION:Cameo Antique Mall 827 Water Street\, Sauk City
UID:e.1184.26847
SEQUENCE:3
DTSTAMP:20260422T004012Z
URL:http://members.saukprairie.com/events/details/international-dog-day-26847
END:VEVENT

END:VCALENDAR
