BEGIN:VCALENDAR
VERSION:2.0
PRODID:-//ChamberMaster//Event Calendar 2.0//EN
METHOD:PUBLISH
X-PUBLISHED-TTL:P3D
REFRESH-INTERVAL:P3D
CALSCALE:GREGORIAN
BEGIN:VEVENT
DTSTART:20170220T190000Z
DTEND:20170220T200000Z
X-MICROSOFT-CDO-ALLDAYEVENT:FALSE
SUMMARY:Interview & Resume Workshop
DESCRIPTION:Bring your job materials to this workshop to get them updated and polished up.\n\n\n\nStraight Forward staff will teach how to land the job you actually want.
X-ALT-DESC;FMTTYPE=text/html:<span style="font-family:georgia\,times new roman\,bitstream charter\,times\,serif\; font-size:16px">Bring your job materials to this workshop to get them updated and polished up.<br />\n<br />\nStraight Forward staff will teach how to land the job you actually want.</span>
LOCATION:Sauk City Public Library 515 Water Street Sauk City\, WI 53583
UID:e.1184.9828
SEQUENCE:3
DTSTAMP:20260425T105923Z
URL:http://members.saukprairie.com/events/details/interview-resume-workshop-9828
END:VEVENT

END:VCALENDAR
