BEGIN:VCALENDAR
VERSION:2.0
PRODID:-//ChamberMaster//Event Calendar 2.0//EN
METHOD:PUBLISH
X-PUBLISHED-TTL:P3D
REFRESH-INTERVAL:P3D
CALSCALE:GREGORIAN
BEGIN:VEVENT
DTSTART:20180713T000000Z
DTEND:20180715T023000Z
X-MICROSOFT-CDO-ALLDAYEVENT:FALSE
SUMMARY:Into the Woods Perf
DESCRIPTION:Into the Woods is a Broadway Tony Award musical about what happens when we wish for things without really thinking it all through first. Four classic fairytales are woven together (Jack in the Beanstalk\, Cinderella\, Little Red Riding Hood\, and Rapunzel) in order to provide a framework for the musical's leading characters\, a Baker and his Wife\, to find the ingredients for a potion that will help them remove a curse on their family tree. With music and lyrics by Stephen Sondheim and a wonderfully fun book written by James Lapine\, the story is both entertaining and inspiring with music that represents some of Sondheim's finest work.
X-ALT-DESC;FMTTYPE=text/html:Into the Woods is a Broadway Tony Award musical about what happens when we wish for things without really thinking it all through first. Four classic fairytales are woven together (Jack in the Beanstalk\, Cinderella\, Little Red Riding Hood\, and Rapunzel) in order to provide a framework for the musical&#39\;s leading characters\, a Baker and his Wife\, to find the ingredients for a potion that will help them remove a curse on their family tree. With music and lyrics by Stephen Sondheim and a wonderfully fun book written by James Lapine\, the story is both entertaining and inspiring with music that represents some of Sondheim&#39\;s finest work.
LOCATION:River Arts Center\, 105 9th Street in Prairie du Sac
UID:e.1184.20449
SEQUENCE:3
DTSTAMP:20260424T082419Z
URL:http://members.saukprairie.com/events/details/into-the-woods-perf-20449
END:VEVENT

END:VCALENDAR
