BEGIN:VCALENDAR
VERSION:2.0
PRODID:-//ChamberMaster//Event Calendar 2.0//EN
METHOD:PUBLISH
X-PUBLISHED-TTL:P3D
REFRESH-INTERVAL:P3D
CALSCALE:GREGORIAN
BEGIN:VEVENT
DTSTART:20230729T180000Z
DTEND:20230729T210000Z
X-MICROSOFT-CDO-ALLDAYEVENT:FALSE
SUMMARY:Intro to Acrylic Pour Painting with Mary Ringelstetter
DESCRIPTION:590 Water St\, Prairie du Sac\, WI 53578\n\nSat\, July 29\, 2023 | 1   4 pm | Deadline to register: July 22\n\n$130/person\n\nAges 16+\n\nAcrylic Pouring is a fun way to create abstract art to enrich your life and enhance your home. Each student will learn how to select and mix colors with pouring medium\, choose one of several methods\, and complete 1-3 paintings.  Students will have the opportunity to try 3 of these different pouring techniques: Dirty Pour\, Open cup\, Dutch Pour\, Flip cup\, and Smashes.\n\n \n\nEach student will create up to 3 canvases during class\, depending on the speed with which you work.  All materials are included with registration.\n\n \n\nCanvases need to dry for at least three days after pouring\, and will have to be picked up at the gallery the following week.
X-ALT-DESC;FMTTYPE=text/html:<p><strong>590 Water St\, Prairie du Sac\, WI 53578</strong></p>\n\n<p><strong>Sat\, July 29\, 2023 | 1 &ndash\; 4 pm</strong>&nbsp\;| Deadline to register: July 22</p>\n\n<p><strong>$130/person</strong></p>\n\n<p><strong>Ages 16+</strong></p>\n\n<p>Acrylic Pouring is a fun way to create abstract art to enrich your life and enhance your home. Each student will learn how to select and mix colors with pouring medium\, choose one of several methods\, and complete 1-3 paintings.&nbsp\; Students will have the opportunity to try 3 of these different pouring techniques: Dirty Pour\, Open cup\, Dutch Pour\, Flip cup\, and Smashes.</p>\n\n<p>&nbsp\;</p>\n\n<p>Each student will create up to 3 canvases during class\, depending on the speed with which you work.&nbsp\; All materials are included with registration.</p>\n\n<p>&nbsp\;</p>\n\n<p><strong>Canvases need to dry for at least three days after pouring\, and will have to be picked up at the gallery the following week.</strong></p>\n\n<p>&nbsp\;</p>\n
LOCATION:River Arts on Water Gallery. 590 Water Street\, Prairie du Sac\, WI\, 53578
UID:e.1184.30745
SEQUENCE:3
DTSTAMP:20260420T102922Z
URL:http://members.saukprairie.com/events/details/intro-to-acrylic-pour-painting-with-mary-ringelstetter-30745
END:VEVENT

END:VCALENDAR
