BEGIN:VCALENDAR
VERSION:2.0
PRODID:-//ChamberMaster//Event Calendar 2.0//EN
METHOD:PUBLISH
X-PUBLISHED-TTL:P3D
REFRESH-INTERVAL:P3D
CALSCALE:GREGORIAN
BEGIN:VEVENT
DTSTART:20230128T190000Z
DTEND:20230128T220000Z
X-MICROSOFT-CDO-ALLDAYEVENT:FALSE
SUMMARY:Intro to Acrylic Pours with Mary Ringelstetter
DESCRIPTION:Acrylic Pouring is a fun way to create abstract art to enrich your life and enhance your home. Each student will learn how to select and mix colors with pouring medium\, choose one of several methods\, and complete 1-3 paintings.  Students will have the opportunity to try 3 of these different pouring techniques: Dirty Pour\, Open cup\, Dutch Pour\, Flip cup\, and Smashes.
X-ALT-DESC;FMTTYPE=text/html:<span style="color:rgb(0\, 0\, 0)\; font-family:arial\,helvetica\,sans-serif">Acrylic Pouring is a fun way to create abstract art to enrich your life and enhance your home. Each student will learn how to select and mix colors with pouring medium\, choose one of several methods\, and complete 1-3 paintings.&nbsp\; Students will have the opportunity to try 3 of these different pouring techniques: Dirty Pour\, Open cup\, Dutch Pour\, Flip cup\, and Smashes.</span>
LOCATION:590 Water St\, Prairie du Sac\, WI 53578
UID:e.1184.28211
SEQUENCE:3
DTSTAMP:20260420T233408Z
URL:http://members.saukprairie.com/events/details/intro-to-acrylic-pours-with-mary-ringelstetter-28211
END:VEVENT

END:VCALENDAR
