BEGIN:VCALENDAR
VERSION:2.0
PRODID:-//ChamberMaster//Event Calendar 2.0//EN
METHOD:PUBLISH
X-PUBLISHED-TTL:P3D
REFRESH-INTERVAL:P3D
CALSCALE:GREGORIAN
BEGIN:VEVENT
DTSTART:20230114T180000Z
DTEND:20230114T220000Z
X-MICROSOFT-CDO-ALLDAYEVENT:FALSE
SUMMARY:Intro to Drop Spindle Yarn with Mother of Purl
DESCRIPTION:In this workshop\, students will learn how to spin their own yarn using the ancient technology of drop spindle.  With hand dyed wool\, students will spin two singles using hand tools\, and ply them together to create a functional piece of art that can then be used in knitting\, crochet\, or weaving projects.
X-ALT-DESC;FMTTYPE=text/html:<span style="color:rgb(0\, 0\, 0)\; font-family:arial\,helvetica\,sans-serif">In this workshop\, students will learn how to spin their own yarn using the ancient technology of drop spindle.&nbsp\; With hand dyed wool\, students will spin two singles using hand tools\, and ply them together to create a functional piece of art that can then be used in knitting\, crochet\, or weaving projects.</span>
LOCATION:590 Water St\, Prairie du Sac\, WI 53578
UID:e.1184.28208
SEQUENCE:3
DTSTAMP:20260421T004530Z
URL:http://members.saukprairie.com/events/details/intro-to-drop-spindle-yarn-with-mother-of-purl-28208
END:VEVENT

END:VCALENDAR
