BEGIN:VCALENDAR
VERSION:2.0
PRODID:-//ChamberMaster//Event Calendar 2.0//EN
METHOD:PUBLISH
X-PUBLISHED-TTL:P3D
REFRESH-INTERVAL:P3D
CALSCALE:GREGORIAN
BEGIN:VEVENT
DTSTART:20230916T130000Z
DTEND:20230916T220000Z
X-MICROSOFT-CDO-ALLDAYEVENT:FALSE
SUMMARY:Intro to Relief Print Making with Derek Hibbs
DESCRIPTION:Intro to Relief Printmaking with Derek Hibbs\n\n590 Water St\, Prairie du Sac\, WI 53578\n\nSat\, Sept 16\, 2023 | 8 am   5 pm | Deadline to register: Aug 26\n\n$100 + $20 kit fee/person\n\nAges 14+\n\nThis class will cover an introductory overview to the process of relief printmaking\, its history\, various methods\, and producing multiples through printing. Students will complete one print (image) to entirety over their time in this course. You will have the option to create one block to print from using either linoleum or birch plywood. You will produce 6-8 quality prints of this image and experiment with printing by hand and on a small press. We will examine material choices\, image/composition decision making\, drawing techniques\, transfer techniques\, carving\, printing\, tool care\, print studio practices\, and DIY methods. Students will have the option to explore their own style and creative interests within their imagery. We will be working with an 8" x 6" image size\, preplanned ideas or sketches for producing a relief print are highly encouraged but not required. Before beginning the class\, students will need to purchase a basic set of carving tools from Dick Blick\, Jerry's\, or another supplier.
X-ALT-DESC;FMTTYPE=text/html:<h4>Intro to Relief Printmaking with Derek Hibbs</h4>\n\n<p><strong>590 Water St\, Prairie du Sac\, WI 53578</strong></p>\n\n<p><strong>Sat\, Sept 16\, 2023 | 8 am &ndash\; 5 pm</strong>&nbsp\;| Deadline to register: Aug 26</p>\n\n<p><strong>$100 + $20 kit fee/person</strong></p>\n\n<p><strong>Ages 14+</strong></p>\n\n<p>This class will cover an introductory overview to the process of relief printmaking\, its history\, various methods\, and producing multiples through printing. Students will complete one print (image) to entirety over their time in this course. You will have the option to create one block to print from using either linoleum or birch plywood. You will produce 6-8 quality prints of this image and experiment with printing by hand and on a small press. We will examine material choices\, image/composition decision making\, drawing techniques\, transfer techniques\, carving\, printing\, tool care\, print studio practices\, and DIY methods. Students will have the option to explore their own style and creative interests within their imagery. We will be working with an 8&rdquo\; x 6&rdquo\; image size\, preplanned ideas or sketches for producing a relief print are highly encouraged but not required. Before beginning the class\, students will need to purchase a basic set of carving tools from Dick Blick\, Jerry&rsquo\;s\, or another supplier.</p>\n
LOCATION:River Arts on Water Gallery. 590 Water Street\, Prairie du Sac\, WI\, 53578
UID:e.1184.30749
SEQUENCE:3
DTSTAMP:20260420T074112Z
URL:http://members.saukprairie.com/events/details/intro-to-relief-print-making-with-derek-hibbs-30749
END:VEVENT

END:VCALENDAR
