BEGIN:VCALENDAR
VERSION:2.0
PRODID:-//ChamberMaster//Event Calendar 2.0//EN
METHOD:PUBLISH
X-PUBLISHED-TTL:P3D
REFRESH-INTERVAL:P3D
CALSCALE:GREGORIAN
BEGIN:VEVENT
DTSTART:20191123T163000Z
DTEND:20191123T183000Z
X-MICROSOFT-CDO-ALLDAYEVENT:FALSE
SUMMARY:Intro to Yoga
DESCRIPTION:From the ground up\, from inside out\, learn how to balance your power and ease in any flow class.\n\nJoin Alyssa in this 2-hour workshop\, where you will build a strong foundation for a flow yoga practice. This workshop is perfect for students new to flow yoga as well as the experienced yogi who is looking to take their practice to the next level. After a brief discussion on the history and meaning of the practice\, we will break down the proper body alignment and variations of key yoga poses and transitions\, explore connecting breath with movement\, and more. You will emerge feeling capable and confident in your yoga practice.\n\nWhat to bring: a water bottle\; breathable\, comfortable clothes that you can move in\; and perhaps a towel for sweat (the room will be heated between 85-90 degrees).\n\nMembers $15\n\nNon-Members $20\n\nSign up for this Workshop along with our New Student Special and receive $5 off!
X-ALT-DESC;FMTTYPE=text/html:<div><strong>From the ground up\, from inside out\, learn how to balance your power and ease in any flow class.</strong></div>\n\n<p>Join Alyssa in this 2-hour workshop\, where you will build a strong foundation for a flow yoga practice. This workshop is perfect for students new to flow yoga as well as the experienced yogi who is looking to take their practice to the next level. After a brief discussion on the history and meaning of the practice\, we will break down the proper body alignment and variations of key yoga poses and transitions\, explore connecting breath with movement\, and more. You will emerge feeling capable and confident in your yoga practice.</p>\n\n<p>What to bring: a water bottle\; breathable\, comfortable clothes that you can move in\; and perhaps a towel for sweat (the room will be heated between 85-90 degrees).</p>\n\n<p>Members $15<br />\nNon-Members $20<br />\nSign up for this Workshop along with our New Student Special and receive $5 off!</p>\n
LOCATION:Prairie Fire Yoga 560 Park Ave Prairie du Sac\, WI 53578
UID:e.1184.23726
SEQUENCE:3
DTSTAMP:20260423T083516Z
URL:http://members.saukprairie.com/events/details/intro-to-yoga-23726
END:VEVENT

END:VCALENDAR
