BEGIN:VCALENDAR
VERSION:2.0
PRODID:-//ChamberMaster//Event Calendar 2.0//EN
METHOD:PUBLISH
X-PUBLISHED-TTL:P3D
REFRESH-INTERVAL:P3D
CALSCALE:GREGORIAN
BEGIN:VEVENT
DTSTART:20241030T230000Z
DTEND:20241031T000000Z
X-MICROSOFT-CDO-ALLDAYEVENT:FALSE
SUMMARY:INTRODUCING... Shockwave Therapy!
DESCRIPTION:Introducing our latest treatment: Shockwave Therapy\n\n \n\nShockwave Therapy has been a proven medical treatment for over 40 years and has been shown to have a 97% success rate at healing soft tissue injuries.\n\n \n\nShockwave treats multiple conditions such as:\n\n\n	Tennis elbow\n	Plantar fasciitis\n	Rotator cuff injury\n	Carpal tunnel\n	Frozen shoulder\n	Tendonitis\n	Herniated disc and many more!\n\n\nMark your calendar to come to our free informational event to learn more and see how Shockwave treatments work!
X-ALT-DESC;FMTTYPE=text/html:<div>Introducing our latest treatment: Shockwave Therapy<br />\n&nbsp\;</div>\n\n<div>Shockwave Therapy has been a proven medical treatment for over 40 years and has been shown to have a 97% success rate at healing soft tissue injuries.<br />\n&nbsp\;</div>\n\n<div>Shockwave treats multiple conditions such as:</div>\n\n<ul>\n	<li>Tennis elbow</li>\n	<li>Plantar fasciitis</li>\n	<li>Rotator cuff injury</li>\n	<li>Carpal tunnel</li>\n	<li>Frozen shoulder</li>\n	<li>Tendonitis</li>\n	<li>Herniated disc and many more!</li>\n</ul>\n\n<div>Mark your calendar to come to our free informational event to learn more and see how Shockwave treatments work!</div>\n
LOCATION:Center of Chiropractic Neurology
UID:e.1184.33476
SEQUENCE:3
DTSTAMP:20260419T142646Z
URL:http://members.saukprairie.com/events/details/introducing-shockwave-therapy-33476
END:VEVENT

END:VCALENDAR
