BEGIN:VCALENDAR
VERSION:2.0
PRODID:-//ChamberMaster//Event Calendar 2.0//EN
METHOD:PUBLISH
X-PUBLISHED-TTL:P3D
REFRESH-INTERVAL:P3D
CALSCALE:GREGORIAN
BEGIN:VEVENT
DTSTART:20200318T183000Z
DTEND:20200318T193000Z
X-MICROSOFT-CDO-ALLDAYEVENT:FALSE
SUMMARY:Introduction to Mindfulness Meditation
DESCRIPTION:Mindfulness is a movement that is being introduced to the medical field\, to businesses and to schools. Mindfulness will not change our life experiences but\, it will change how we experience life. During this eight week course we will investigate the baseline practices of Mindfulness. We will begin with breath work then we will navigate into Mindfulness of the senses\, Mindful movement and open awareness. I am looking forward to seeing you.\nDiane Matzke\, Mindful Schools Certified Instructor and currently training in Mindfulness Meditation Teacher Certification Program with Tara Brach and Jack Kornfield.\n\nCourse runs Wednesdays from 1:30pm-2:30pm February 5 through April 8 with no class February 19 or March 25. Registration is required  and can be done at the library desk or by calling at library at 643-8318.\n*Feel free to bring a cushion if you would like.
X-ALT-DESC;FMTTYPE=text/html:Mindfulness is a movement that is being introduced to the medical field\, to businesses and to schools. Mindfulness will not change our life experiences but\, it will change how we experience life. During this eight week course we will investigate the baseline practices of Mindfulness. We will begin with breath work then we will navigate into Mindfulness of the senses\, Mindful movement and open awareness. I am looking forward to seeing you.\n<p>Diane Matzke\, Mindful Schools Certified Instructor and currently training in Mindfulness Meditation Teacher Certification Program with Tara Brach and Jack Kornfield.</p>\n\n<p>Course runs Wednesdays from 1:30pm-2:30pm February 5 through April 8 with no class February 19 or March 25. <strong>Registration is required&nbsp\; </strong>and can be done at the library desk or by calling at library at 643-8318.</p>\n*Feel free to bring a cushion if you would like.
LOCATION:Ruth Culver Community Library 540 Water Street\, Prairie du Sac
UID:e.1184.23934
SEQUENCE:3
DTSTAMP:20260423T041300Z
URL:http://members.saukprairie.com/events/details/introduction-to-mindfulness-meditation-03-18-2020-23934
END:VEVENT

END:VCALENDAR
