BEGIN:VCALENDAR
VERSION:2.0
PRODID:-//ChamberMaster//Event Calendar 2.0//EN
METHOD:PUBLISH
X-PUBLISHED-TTL:P3D
REFRESH-INTERVAL:P3D
CALSCALE:GREGORIAN
BEGIN:VEVENT
DTSTART:20230930T180000Z
DTEND:20230930T200000Z
X-MICROSOFT-CDO-ALLDAYEVENT:FALSE
SUMMARY:Introduction to Poetry: On Nostalgia and Image with Steven Espada Dawson
DESCRIPTION:Introduction to Poetry: On Nostalgia and Image with Steven Espada Dawson\n\n\n\n\nSaturday\, September 30\, 2023 | 1-3p\n\nDeadline to register: September 27\, 2023\n\n$60\n\nAges 16+\n\n\n\n\n\nIn this workshop\, we will focus on the concept of poetic "image\," with the goal of becoming better witnesses to the world. By interrogating the images of our memory and everyday lives\, we will practice imparting our noticing into aspects of our creative work. All experience levels are welcome (seriously\, no poetry prerequisites required!)\, and we will begin by establishing a basic\, shared language of poetic craft. You can expect to leave this workshop with a more thoughtful and pragmatic creative process and a draft of poetry.\n\n \n\nStudents should bring a notebook or notepad and a pencil or pen\, or a laptop\, etc.\, to draft their poems with.
X-ALT-DESC;FMTTYPE=text/html:<p><strong>Introduction to Poetry: On Nostalgia and Image with Steven Espada Dawson</strong></p>\n\n<div>\n<div>\n<div>\n<p><strong>Saturday\, September 30\, 2023 | 1-3p</strong></p>\n\n<p>Deadline to register: September 27\, 2023</p>\n\n<p><strong>$60</strong></p>\n\n<p><strong>Ages 16+</strong></p>\n</div>\n</div>\n</div>\n\n<div>\n<div>In this workshop\, we will focus on the concept of poetic &ldquo\;image\,&rdquo\; with the goal of becoming better witnesses to the world. By interrogating the images of our memory and everyday lives\, we will practice imparting our noticing into aspects of our creative work. All experience levels are welcome (seriously\, no poetry prerequisites required!)\, and we will begin by establishing a basic\, shared language of poetic craft. You can expect to leave this workshop with a more thoughtful and pragmatic creative process and a draft of poetry.</div>\n\n<div>&nbsp\;</div>\n\n<div>Students should bring a notebook or notepad and a pencil or pen\, or a laptop\, etc.\, to draft their poems with.</div>\n</div>\n
LOCATION:590 Water Street\, Prairie du Sac\, WI
UID:e.1184.30984
SEQUENCE:3
DTSTAMP:20260420T074010Z
URL:http://members.saukprairie.com/events/details/introduction-to-poetry-on-nostalgia-and-image-with-steven-espada-dawson-30984
END:VEVENT

END:VCALENDAR
