BEGIN:VCALENDAR
VERSION:2.0
PRODID:-//ChamberMaster//Event Calendar 2.0//EN
METHOD:PUBLISH
X-PUBLISHED-TTL:P3D
REFRESH-INTERVAL:P3D
CALSCALE:GREGORIAN
BEGIN:VEVENT
DTSTART:20190316T230000Z
DTEND:20190317T001500Z
X-MICROSOFT-CDO-ALLDAYEVENT:FALSE
SUMMARY:INtuitive Flow Workshop
DESCRIPTION:Movement with Solar Powered Instrumental Sound\n\n \nThis 75-minute workshop is built around developing kinesthetic awareness and trust in the mind/body/spirit connection. Designed to guide the students into "letting go"of the rigid & logical "manas" mind\, this class integrates the use of movement\, breath\, and sound to help students tap into their inner voice of expression and creativity. Drawing on various ancient practices and techniques\, we work from the outside-in so we can better live from the inside-out. The final 20-30 min of class will be spent in SAVASANA as we take a guided journey through the imagination and subtle energetic body.\n\n\n\nThis class is accompanied by the magical-mystical-musical genius of REV. Web. For more information on his creations and process visit: reverendwilliamellisbradley.com
X-ALT-DESC;FMTTYPE=text/html:<div style="text-align:center"><strong>Movement with Solar Powered Instrumental Sound</strong><br />\n&nbsp\;</div>\nThis 75-minute workshop is built around developing kinesthetic awareness and trust in the mind/body/spirit connection. Designed to guide the students into &quot\;letting go&quot\;of the rigid &amp\; logical &quot\;manas&quot\; mind\, this class integrates the use of movement\, breath\, and sound to help students tap into their inner voice of expression and creativity. Drawing on various ancient practices and techniques\, we work from the outside-in so we can better live from the inside-out. The final 20-30 min of class will be spent in SAVASANA as we take a guided journey through the imagination and subtle energetic body.<br />\n<br />\nThis class is accompanied by the magical-mystical-musical genius of REV. Web. For more information on his creations and process visit: reverendwilliamellisbradley.com
LOCATION:Prairie Fire Yoga 560 Park Ave Prairie du Sac\, WI 53578
UID:e.1184.22114
SEQUENCE:3
DTSTAMP:20260423T212726Z
URL:http://members.saukprairie.com/events/details/intuitive-flow-workshop-22114
END:VEVENT

END:VCALENDAR
