BEGIN:VCALENDAR
VERSION:2.0
PRODID:-//ChamberMaster//Event Calendar 2.0//EN
METHOD:PUBLISH
X-PUBLISHED-TTL:P3D
REFRESH-INTERVAL:P3D
CALSCALE:GREGORIAN
BEGIN:VEVENT
DTSTART:20161115T000000Z
DTEND:20161115T010000Z
X-MICROSOFT-CDO-ALLDAYEVENT:FALSE
SUMMARY:Investing in our Community!
DESCRIPTION:Investing in our Community. \n\nForming Relationships.\n\nTransforming Lives.\n\n\n\nYou're invited to a plan reveal event for 6:8's new building & fundraising campaign.\n\n\n\nCome see the space (floor plan chalked on the floor of existing building) and hear the vision for the building and campaign. \n\n\n\nQuestions: Call/text John at 608.658.4700\n\nLearn more at www.makingservicepersonal.org/capitalcampaign
X-ALT-DESC;FMTTYPE=text/html:Investing in our Community.&nbsp\;<br />\nForming Relationships.<br />\nTransforming Lives.<br />\n<br />\nYou&#39\;re invited to a plan reveal event for 6:8&#39\;s new building &amp\; fundraising campaign.<br />\n<br />\nCome see the space (floor plan chalked on the floor of existing building) and hear the vision for the building and campaign.&nbsp\;<br />\n<br />\nQuestions: Call/text John at 608.658.4700<br />\nLearn more at www.makingservicepersonal.org/capitalcampaign&nbsp\;&nbsp\;&nbsp\;&nbsp\;
LOCATION:821 Industry Road\, Sauk City (behind Piggly Wiggly and McFarlane's
UID:e.1184.9480
SEQUENCE:3
DTSTAMP:20260425T161104Z
URL:http://members.saukprairie.com/events/details/investing-in-our-community-9480
END:VEVENT

END:VCALENDAR
