BEGIN:VCALENDAR
VERSION:2.0
PRODID:-//ChamberMaster//Event Calendar 2.0//EN
METHOD:PUBLISH
X-PUBLISHED-TTL:P3D
REFRESH-INTERVAL:P3D
CALSCALE:GREGORIAN
BEGIN:VEVENT
DTSTART:20190404T213000Z
DTEND:20190404T233000Z
X-MICROSOFT-CDO-ALLDAYEVENT:FALSE
SUMMARY:Investing\, Retirement\, Estate Planning
DESCRIPTION:Please join us on Thursday\, April 4th\, from 4:30-6:30pm at Vintage Brewery. \n\n	Understand saving for Retirement with Zach Dahl\n	Stock Market Update with Fidelity Investments\n	Efficient Estate Plans with Tim Homar\n\nCocktails\, Drinks & Hor D'oeuvres will be provided.\n\n\n\nPlease RSVP to zach@dahlfs.com or 608.513.9155 by March 29.
X-ALT-DESC;FMTTYPE=text/html:Please join us on Thursday\, April 4th\, from 4:30-6:30pm at Vintage Brewery.&nbsp\;\n<ul>\n	<li>Understand saving for Retirement with Zach Dahl</li>\n	<li>Stock Market Update with Fidelity Investments</li>\n	<li>Efficient Estate Plans with Tim Homar</li>\n</ul>\nCocktails\, Drinks &amp\; Hor D&#39\;oeuvres will be provided.<br />\n<br />\nPlease RSVP to zach@dahlfs.com or 608.513.9155 by March 29.
LOCATION:
UID:e.1184.22146
SEQUENCE:3
DTSTAMP:20260423T201938Z
URL:http://members.saukprairie.com/events/details/investing-retirement-estate-planning-22146
END:VEVENT

END:VCALENDAR
