BEGIN:VCALENDAR
VERSION:2.0
PRODID:-//ChamberMaster//Event Calendar 2.0//EN
METHOD:PUBLISH
X-PUBLISHED-TTL:P3D
REFRESH-INTERVAL:P3D
CALSCALE:GREGORIAN
BEGIN:VEVENT
DTSTART:20190305T200000Z
DTEND:20190305T220000Z
X-MICROSOFT-CDO-ALLDAYEVENT:FALSE
SUMMARY:Irish Songs with David HB Drake
DESCRIPTION:Wisconsin folk singer David HB Drake will perform a concert of Irish Songs just in time for St. Patrick's Day.
X-ALT-DESC;FMTTYPE=text/html:<span style="background-color:rgb(255\, 255\, 255)\; font-family:arial\; font-size:12pt">Wisconsin folk singer David HB Drake will perform a concert of Irish Songs just in time for St. Patrick&#39\;s Day.</span>
LOCATION:515 Water Street Sauk City\, WI 53583
UID:e.1184.21993
SEQUENCE:3
DTSTAMP:20260423T201620Z
URL:http://members.saukprairie.com/events/details/irish-songs-with-david-hb-drake-21993
END:VEVENT

END:VCALENDAR
