BEGIN:VCALENDAR
VERSION:2.0
PRODID:-//ChamberMaster//Event Calendar 2.0//EN
METHOD:PUBLISH
X-PUBLISHED-TTL:P3D
REFRESH-INTERVAL:P3D
CALSCALE:GREGORIAN
BEGIN:VEVENT
DTSTART:20191215T200000Z
DTEND:20191215T220000Z
X-MICROSOFT-CDO-ALLDAYEVENT:FALSE
SUMMARY:Isthmus Brass Holiday Concert
DESCRIPTION:Isthmus Brass Holiday\n\nat the River Arts Center (high school) | 105-9th Street\, Prairie du Sac\, WI 53578\n\nSunday\, December 15th\, 2019 | 2pm-4pm\n\nTickets: $20/adults\, $10/students\n\n\nA 12 piece ensemble comprised of the finest professional brass players in the Midwest\, the Isthmus Brass is Wisconsin's premiere large brass ensemble. In this holiday spectacular\, they present a varied program of virtuosic arrangements of the best-loved holiday tunes. From early classic Christmas carols\, to banging big band versions of today's most popular holiday fare\, the Isthmus Brass never fails to impress.
X-ALT-DESC;FMTTYPE=text/html:<p><strong>Isthmus Brass Holiday</strong></p>\n\n<p><strong>at the River Arts Center (high school) | 105-9th Street\, Prairie du Sac\, WI 53578</strong></p>\n\n<p>Sunday\, December 15th\, 2019 | 2pm-4pm</p>\n\n<p>Tickets: $20/adults\, $10/students</p>\n\n<hr />\n<p>A 12 piece ensemble comprised of the finest professional brass players in the Midwest\, the Isthmus Brass is Wisconsin&rsquo\;s premiere large brass ensemble. In this holiday spectacular\, they present a varied program of virtuosic arrangements of the best-loved holiday tunes. From early classic Christmas carols\, to banging big band versions of today&rsquo\;s most popular holiday fare\, the Isthmus Brass never fails to impress.</p>\n
LOCATION:River Arts Center 105 9th St Prairie du Sac\, WI 53578
UID:e.1184.22523
SEQUENCE:3
DTSTAMP:20260423T070646Z
URL:http://members.saukprairie.com/events/details/isthmus-brass-holiday-concert-22523
END:VEVENT

END:VCALENDAR
