BEGIN:VCALENDAR
VERSION:2.0
PRODID:-//ChamberMaster//Event Calendar 2.0//EN
METHOD:PUBLISH
X-PUBLISHED-TTL:P3D
REFRESH-INTERVAL:P3D
CALSCALE:GREGORIAN
BEGIN:VEVENT
DTSTART:20221110T230000Z
DTEND:20221111T010000Z
X-MICROSOFT-CDO-ALLDAYEVENT:FALSE
SUMMARY:It Could Be Yours Open House
DESCRIPTION:Come join It Could Be Yours for an Open House on November 10th from 5-7pm.
X-ALT-DESC;FMTTYPE=text/html:Come join It Could Be Yours for an Open House on November 10th from 5-7pm.
LOCATION:825 Water Street Sauk City\, WI 53583
UID:e.1184.28779
SEQUENCE:3
DTSTAMP:20260421T032407Z
URL:http://members.saukprairie.com/events/details/it-could-be-yours-open-house-28779
END:VEVENT

END:VCALENDAR
