BEGIN:VCALENDAR
VERSION:2.0
PRODID:-//ChamberMaster//Event Calendar 2.0//EN
METHOD:PUBLISH
X-PUBLISHED-TTL:P3D
REFRESH-INTERVAL:P3D
CALSCALE:GREGORIAN
BEGIN:VEVENT
DTSTART:20221202T150000Z
DTEND:20221203T200000Z
X-MICROSOFT-CDO-ALLDAYEVENT:FALSE
SUMMARY:It's a Holly Jolly Life at 6:8
DESCRIPTION:Come enjoy the Holly Jolly Life at 6:8 this December 2nd and 3rd! In participation with the Sauk Prairie Chamber's "It's A Holly Jolly Life" event\, we will be hosting free movie showings of "It's A Wonderful Life\," free popcorn and mulled beverages\, face paintings\, a movie scene replica for photo opportunities\, and our $1-$5 shop\, which features handmade gifts\, most of which range from $1-$5! Don't miss out on this family-friendly\, fun celebration!\n\nLunch will be available to purchase on both Friday and Saturday!\n\n\n\nMovie Showtimes Friday and Saturday: 9am & 12pm\n\n$1-$5 Shop Shopping Times:\n\nFri\, Dec 2nd - 9am-2pm Seniors Only\n\nSat\, Dec 3rd - 9am-11am Kids Only (Parents Welcome) 11am-2pm Community Sale
X-ALT-DESC;FMTTYPE=text/html:<span style="color:rgb(60\, 64\, 67)\; font-family:roboto\,arial\,sans-serif\; font-size:14px">Come enjoy the Holly Jolly Life at 6:8 this December 2nd and 3rd! In participation with the Sauk Prairie Chamber&#39\;s &quot\;It&#39\;s A Holly Jolly Life&quot\; event\, we will be hosting free movie showings of &quot\;It&#39\;s A Wonderful Life\,&quot\; free popcorn and mulled beverages\, face paintings\, a movie scene replica for photo opportunities\, and our $1-$5 shop\, which features handmade gifts\, most of which range from $1-$5! Don&#39\;t miss out on this family-friendly\, fun celebration!</span><br />\n<span style="color:rgb(60\, 64\, 67)\; font-family:roboto\,arial\,sans-serif\; font-size:14px">Lunch will be available to purchase on both Friday and Saturday!</span><br />\n<br />\n<u>Movie Showtimes Friday and Saturday:</u><span style="color:rgb(60\, 64\, 67)\; font-family:roboto\,arial\,sans-serif\; font-size:14px"> 9am &amp\; 12pm</span><br />\n<u>$1-$5 Shop Shopping Times:</u><br />\n<strong>Fri\, Dec 2nd</strong><span style="color:rgb(60\, 64\, 67)\; font-family:roboto\,arial\,sans-serif\; font-size:14px"> - 9am-2pm </span><em>Seniors Only</em><br />\n<strong>Sat\, Dec 3rd</strong><span style="color:rgb(60\, 64\, 67)\; font-family:roboto\,arial\,sans-serif\; font-size:14px"> - 9am-11am </span><em>Kids Only (Parents Welcome)</em><span style="color:rgb(60\, 64\, 67)\; font-family:roboto\,arial\,sans-serif\; font-size:14px"> 11am-2pm </span><em>Community Sale</em>
LOCATION:821 Industry Rd\, Sauk City WI\, 53583
UID:e.1184.28786
SEQUENCE:3
DTSTAMP:20260421T004231Z
URL:http://members.saukprairie.com/events/details/it-s-a-holly-jolly-life-at-6-8-28786
END:VEVENT

END:VCALENDAR
