BEGIN:VCALENDAR
VERSION:2.0
PRODID:-//ChamberMaster//Event Calendar 2.0//EN
METHOD:PUBLISH
X-PUBLISHED-TTL:P3D
REFRESH-INTERVAL:P3D
CALSCALE:GREGORIAN
BEGIN:VEVENT
DTSTART;VALUE=DATE:20200311
DTEND;VALUE=DATE:20200312
TRANSP:TRANSPARENT
X-MICROSOFT-CDO-ALLDAYEVENT:TRUE
SUMMARY:It's Turtle Time at the Dorf Haus on Wednesdays During Lent
DESCRIPTION:Curious first timers who want to try roasted turtle dinners at the Dorf Haus Supper Club\, Roxbury\, near Sauk City\, as a Lenten alternative\, can order it Wednesdays and Fridays through April 10.  \n\n \n\nThe $18.95 entr e includes turtle\, marinated overnight in carrots and onions and then roasted for four hours\, mashed potatoes\, gravy\, cole slaw and the Dorf Haus signature fritters.  The Dorf Haus popular Friday night haddock fish fry with fritters is also a special on Wednesdays\, as well as Fridays\, during Lent. Cost is $14.95.\n\n \n\nThe turtle tradition started 36 years ago when the late Vern Maier\, original Dorf Haus owner\, thought his loyal customers\, many of whom were Catholics\, would like to try something different\, other than fish during lent and turtle qualifies.\n\n \n\nDiners are encouraged to call ahead to order turtle at 608-643-3980.
X-ALT-DESC;FMTTYPE=text/html:<span style="color:black\;"><span style="font-family:arial\,sans-serif\;"><span style="font-size:10.0pt\;">Curious first timers who want to try roasted turtle dinners at the Dorf Haus Supper Club\, Roxbury\, near Sauk City\, as a Lenten alternative\, can order it Wednesdays and Fridays through April 10.&nbsp\; </span></span></span><br />\n&nbsp\;<br />\n<span style="color:black\;"><span style="font-family:arial\,sans-serif\;"><span style="font-size:10.0pt\;">The $18.95 entr&eacute\;e includes turtle\, marinated overnight in carrots and onions and then roasted for four hours\, mashed potatoes\, gravy\, cole slaw and the Dorf Haus signature fritters.&nbsp\; The Dorf Haus popular Friday night haddock fish fry with fritters is also a special on Wednesdays\, as well as Fridays\, during Lent. Cost is $14.95.</span></span></span><br />\n&nbsp\;<br />\n<span style="color:black\;"><span style="font-family:arial\,sans-serif\;"><span style="font-size:10.0pt\;">The turtle tradition started 36 years ago when the late Vern Maier\, original Dorf Haus owner\, thought his loyal customers\, many of whom were Catholics\, would like to try something different\, other than fish during lent and turtle qualifies.</span></span></span><br />\n&nbsp\;<br />\n<span style="color:black\;"><span style="font-family:arial\,sans-serif\;"><span style="font-size:10.0pt\;">Diners are encouraged to call ahead to order turtle at 608-643-3980.&nbsp\; </span></span></span>
LOCATION:Dorf Haus
UID:e.1184.24130
SEQUENCE:3
DTSTAMP:20260423T025932Z
URL:http://members.saukprairie.com/events/details/it-s-turtle-time-at-the-dorf-haus-on-wednesdays-during-lent-24130
END:VEVENT

END:VCALENDAR
