BEGIN:VCALENDAR
VERSION:2.0
PRODID:-//ChamberMaster//Event Calendar 2.0//EN
METHOD:PUBLISH
X-PUBLISHED-TTL:P3D
REFRESH-INTERVAL:P3D
CALSCALE:GREGORIAN
BEGIN:VEVENT
DTSTART:20181130T000000Z
DTEND:20181130T030000Z
X-MICROSOFT-CDO-ALLDAYEVENT:FALSE
SUMMARY:Jake ‘O & Co in concert
DESCRIPTION:Come see Jake 'O & Co in concert at UW Platteville Baraboo Sauk County\, November 29 in the R.G. Brown Theatre\, starting at 6:00 P.M. General admission $3.00 at the door\, and free for UW Platteville Baraboo Sauk County and UW Platteville Richland Students.
X-ALT-DESC;FMTTYPE=text/html:<span style="color:rgb(29\, 33\, 41)\; font-family:helvetica\,arial\,sans-serif\; font-size:14px">Come see Jake &lsquo\;O &amp\; Co in concert at UW Platteville Baraboo Sauk County\, November 29 in the R.G. Brown Theatre\, starting at 6:00 P.M. General admission $3.00 at the door\, and free for UW Platteville Baraboo Sauk County and UW Platteville Richland Students.</span>
LOCATION:UW Platteville Baraboo Sauk County R.G. Brown Theatre
UID:e.1184.21471
SEQUENCE:3
DTSTAMP:20260424T033914Z
URL:http://members.saukprairie.com/events/details/jake-o-co-in-concert-21471
END:VEVENT

END:VCALENDAR
