BEGIN:VCALENDAR
VERSION:2.0
PRODID:-//ChamberMaster//Event Calendar 2.0//EN
METHOD:PUBLISH
X-PUBLISHED-TTL:P3D
REFRESH-INTERVAL:P3D
CALSCALE:GREGORIAN
BEGIN:VEVENT
DTSTART:20190921T170000Z
DTEND:20190922T020000Z
X-MICROSOFT-CDO-ALLDAYEVENT:FALSE
SUMMARY:Jami’s Phight
DESCRIPTION:Fundraiser to benefit Jami Krause. Jami is a local EMT that received a double lung transplant on 5/16/2019. All monies raised will go directly to the Krause family to offset any expenses.
X-ALT-DESC;FMTTYPE=text/html:Fundraiser to benefit Jami Krause. Jami is a local EMT that received a double lung transplant on 5/16/2019. All monies raised will go directly to the Krause family to offset any expenses.
LOCATION:The Gym Bar
UID:e.1184.22588
SEQUENCE:3
DTSTAMP:20260423T112327Z
URL:http://members.saukprairie.com/events/details/jami-s-phight-22588
END:VEVENT

END:VCALENDAR
