BEGIN:VCALENDAR
VERSION:2.0
PRODID:-//ChamberMaster//Event Calendar 2.0//EN
METHOD:PUBLISH
X-PUBLISHED-TTL:P3D
REFRESH-INTERVAL:P3D
CALSCALE:GREGORIAN
BEGIN:VEVENT
DTSTART:20240127T003000Z
DTEND:20240127T013000Z
X-MICROSOFT-CDO-ALLDAYEVENT:FALSE
SUMMARY:January Friday Night Group Yoga Classes
DESCRIPTION:If you're looking to expand your self care routine\, knowledge and skills\, consider taking a class offered on select Friday nights in Prairie Du Sac throughout January and February. Whether you want to increase flexibility\, improve your range of motion\, or gain a deeper understanding of how simple self-care and comfort can be\, these classes are for you.\n\n \n\n\n\nI am passionate about my students and will guide you through the learning process with patience and care. Plus\, taking a course on a Friday night is a great way to kick off your weekend and meet new people who share your interests. Invest in yourself and have fun while doing it. Register for a course today!\n\n \n\n\n\nhttps://app.yottled.com/peakyogawellness/events/e/83f7f7d1-d064-4a14-9a77-0c4f6ddb5228
X-ALT-DESC;FMTTYPE=text/html:<div>\n<div><span style="font-family:inherit">If you&#39\;re looking to expand your self care routine\, knowledge and skills\, consider taking a class offered on select Friday nights in Prairie Du Sac throughout January and February. Whether you want to increase flexibility\, improve your range of motion\, or gain a deeper understanding of how simple self-care and comfort can be\, these classes are for you.</span><br />\n&nbsp\;</div>\n</div>\n\n<div>\n<div><span style="font-family:inherit">I am passionate about my students and will guide you through the learning process with patience and care. Plus\, taking a course on a Friday night is a great way to kick off your weekend and meet new people who share your interests. Invest in yourself and have fun while doing it. Register for a course today!</span><br />\n&nbsp\;</div>\n</div>\n\n<div>\n<div><a href="https://app.yottled.com/peakyogawellness/events/e/83f7f7d1-d064-4a14-9a77-0c4f6ddb5228"><span style="color:var(--blue-link)\; font-family:inherit">https://app.yottled.com/peakyogawellness/events/e/83f7f7d1-d064-4a14-9a77-0c4f6ddb5228</span></a></div>\n</div>\n
LOCATION:350 Prairie St. Prairie Du Sac\, WI 53718
UID:e.1184.31474
SEQUENCE:3
DTSTAMP:20260420T020152Z
URL:http://members.saukprairie.com/events/details/january-friday-night-group-yoga-classes-01-26-2024-31474
END:VEVENT

END:VCALENDAR
