BEGIN:VCALENDAR
VERSION:2.0
PRODID:-//ChamberMaster//Event Calendar 2.0//EN
METHOD:PUBLISH
X-PUBLISHED-TTL:P3D
REFRESH-INTERVAL:P3D
CALSCALE:GREGORIAN
BEGIN:VEVENT
DTSTART:20170915T000000Z
DTEND:20170915T020000Z
X-MICROSOFT-CDO-ALLDAYEVENT:FALSE
SUMMARY:Jay Matthes at the Woodshed Ale House
DESCRIPTION:began playing professionally in July 2011. Since then\, my musical projects have earned opening spots for national acts such as Jana Kramer\, Old Dominion\, Robert Randolph and the Family Band\, Mike Dawes\, 10\,000 Maniacs\, Ike Reilly Assassination\, Charlie Worsham\, RaeLynn\, Freedy Johnston\, Natalie Stovall and the Drive\, and more.\n\n\n\nI've played many of the major venues in Wisconsin\, from Cactus Club to Summerfest to The Rave\, plus multiple festivals and events. My original music has been featured on Wisconsin\, Minnesota\, Iowa\, and Tennessee radio\, as well as TMJ4's Wisconsin Tonight\, Channel 12 WISN\, The Transistor Show\, and ZUUS Country Network. Press has included features in The Modern Folk\, Americana Daily\, Breaking & Entering\, Shepherd Express\, Milwaukee Journal Sentinel\, Ozaukee Magazine\,OnMilwaukee.com\, and more.\n\nhttps://www.facebook.com/jaymatthesmusic/videos/1066177040125513/
X-ALT-DESC;FMTTYPE=text/html:<span style="color: rgb(75\, 79\, 86)\; font-family: Helvetica\, Arial\, sans-serif\; font-size: 14px\;">&nbsp\;began playing professionally in July 2011. Since then\, my musical projects have earned opening spots for national acts such as Jana Kramer\, Old Dominion\, Robert Randolph and the Family Band\, Mike Dawes\, 10\,000 Maniacs\, Ike Reilly Assassination\, Charlie Worsham\, RaeLynn\, Freedy Johnston\, Natalie Stovall and the Drive\, and more.</span><br style="color: rgb(75\, 79\, 86)\; font-family: Helvetica\, Arial\, sans-serif\; font-size: 14px\;" />\n<br style="color: rgb(75\, 79\, 86)\; font-family: Helvetica\, Arial\, sans-serif\; font-size: 14px\;" />\n<span style="color: rgb(75\, 79\, 86)\; font-family: Helvetica\, Arial\, sans-serif\; font-size: 14px\;">I&#39\;ve played many of the major venues in Wisconsin\, from Cactus Club to Summerfest to The Rave\, plus multiple festivals and events. My original music has been featured on Wisconsin\, Minnesota\, Iowa\, and Tennessee radio\, as well as TMJ4&#39\;s Wisconsin Tonight\, Channel 12 WISN\, The Transistor Show\, and ZUUS Country Network. Press has included features in The Modern Folk\, Americana Daily\, Breaking &amp\; Entering\, Shepherd Express\, Milwaukee Journal Sentinel\, Ozaukee Magazine\,</span><a href="https://l.facebook.com/l.php?u=http%3A%2F%2FOnMilwaukee.com%2F&amp\;h=ATOhPt2yRzo2VzFccBFPq7X9MCq05NhN9ogDeYc5fRSpzgwng-CNNalF824UApwklyEYDZhzSc20vS1V4sFTyV7QCuO62fy6NTEsnzL3drpAwwR1LUQ1XA4AQtcvztkBdgiVSsE6O10&amp\;enc=AZOE1TVfGrm9f2sH-h1FqX5_DrGAsbkMS9JWnyAohlqow0m8IbnrFEkLqWh4ByuGivI&amp\;s=1" rel="nofollow noopener nofollow" style="color: rgb(54\, 88\, 153)\; cursor: pointer\; text-decoration-line: none\; font-family: Helvetica\, Arial\, sans-serif\; font-size: 14px\;" target="_blank">OnMilwaukee.com</a><span style="color: rgb(75\, 79\, 86)\; font-family: Helvetica\, Arial\, sans-serif\; font-size: 14px\;">\, and more.</span><br style="color: rgb(75\, 79\, 86)\; font-family: Helvetica\, Arial\, sans-serif\; font-size: 14px\;" />\n<a href="https://www.facebook.com/jaymatthesmusic/videos/1066177040125513/" rel="nofollow" style="color: rgb(54\, 88\, 153)\; cursor: pointer\; text-decoration-line: none\; font-family: Helvetica\, Arial\, sans-serif\; font-size: 14px\;"><span style="font-family: inherit\;">https://www.facebook.com/</span><wbr /><span style="font-family: inherit\;">jaymatthesmusic/videos/</span><wbr />1066177040125513/</a>
LOCATION:Woodshed Ale House 101 Jackson Street
UID:e.1184.11811
SEQUENCE:3
DTSTAMP:20260425T000726Z
URL:http://members.saukprairie.com/events/details/jay-matthes-at-the-woodshed-ale-house-11811
END:VEVENT

END:VCALENDAR
