BEGIN:VCALENDAR
VERSION:2.0
PRODID:-//ChamberMaster//Event Calendar 2.0//EN
METHOD:PUBLISH
X-PUBLISHED-TTL:P3D
REFRESH-INTERVAL:P3D
CALSCALE:GREGORIAN
BEGIN:VEVENT
DTSTART;VALUE=DATE:20220723
DTEND;VALUE=DATE:20220724
TRANSP:TRANSPARENT
X-MICROSOFT-CDO-ALLDAYEVENT:TRUE
SUMMARY:Jeff LaMarre at Schoepp's Cottonwood Resort
DESCRIPTION:Join us at Schoepp's Cottonwood Resort for a performance by Jeff LaMarre on the patio!
X-ALT-DESC;FMTTYPE=text/html:Join us at Schoepp&#39\;s Cottonwood Resort for a performance by Jeff LaMarre on the patio!
LOCATION:Schoepp's Cottonwood Resort: N586 Schoepp Rd\, Sauk City
UID:e.1184.27963
SEQUENCE:3
DTSTAMP:20260421T091248Z
URL:http://members.saukprairie.com/events/details/jeff-lamarre-at-schoepp-s-cottonwood-resort-27963
END:VEVENT

END:VCALENDAR
