BEGIN:VCALENDAR
VERSION:2.0
PRODID:-//ChamberMaster//Event Calendar 2.0//EN
METHOD:PUBLISH
X-PUBLISHED-TTL:P3D
REFRESH-INTERVAL:P3D
CALSCALE:GREGORIAN
BEGIN:VEVENT
DTSTART:20210516T200000Z
DTEND:20210517T000000Z
X-MICROSOFT-CDO-ALLDAYEVENT:FALSE
SUMMARY:Jenn Bostic at The Vines
DESCRIPTION:Check out the extremely talented Jenn Bostic! We are happy to have her come and play a solo show May 16th at The Vines. Come out early and enjoy the outdoor space. \n\n    Jenn Bostic is an inspirational pop/gospel singer based in Nashville\, Tennessee. Her emotive songwriting and powerful vocals have been touching hearts around the world. Jealous of the Angels\, a song written for her late father\, reached #1 on the iTunes singer/songwriter chart and has over 3.5 million views on YouTube. She has performed on BBC Breakfast\, Songs of Praise\, TBN UK and has had 4 singles playlists on BBC Radio 2\, the most listened to radio station in Europe. She has performed on the stages of The Grand Ole Opry\, Ryman Auditorium and Jazz at Lincoln Center. The British Country Music Awards named Bostic "International Touring Artist of the Year" in both 2017 and 2018. Her latest project Take My Hand Part 1\, was recorded with Grammy nominated producer and hit songwriter Lauren Christy\, and debuted at #11 on the iTunes Christian/Gospel Chart.
X-ALT-DESC;FMTTYPE=text/html:&nbsp\;&nbsp\;&nbsp\;&nbsp\;<span style="color:rgb(5\, 5\, 5)\; font-family:system-ui\,-apple-system\,blinkmacsystemfont\,.sfnstext-regular\,sans-serif\; font-size:15px">Check out the extremely talented Jenn Bostic! We are happy to have her come and play a solo show May 16th at The Vines. Come out early and enjoy the outdoor space.&nbsp\;</span><br />\n&nbsp\;&nbsp\;&nbsp\;&nbsp\;<span style="color:rgb(5\, 5\, 5)\; font-family:system-ui\,-apple-system\,blinkmacsystemfont\,.sfnstext-regular\,sans-serif\; font-size:15px">Jenn Bostic is an inspirational pop/gospel singer based in Nashville\, Tennessee. Her emotive songwriting and powerful vocals have been touching hearts around the world. Jealous of the Angels\, a song written for her late father\, reached #1 on the iTunes singer/songwriter chart and has over 3.5 million views on YouTube. She has performed on BBC Breakfast\, Songs of Praise\, TBN UK and has had 4 singles playlists on BBC Radio 2\, the most listened to radio station in Europe. She has performed on the stages of The Grand Ole Opry\, Ryman Auditorium and Jazz at Lincoln Center. The British Country Music Awards named Bostic &quot\;International Touring Artist of the Year&quot\; in both 2017 and 2018. Her latest project Take My Hand Part 1\, was recorded with Grammy nominated producer and hit songwriter Lauren Christy\, and debuted at #11 on the iTunes Christian/Gospel Chart.</span>
LOCATION:The Vines W13002 Schoepp Rd. Sauk City\, WI 53583
UID:e.1184.26625
SEQUENCE:3
DTSTAMP:20260422T063440Z
URL:http://members.saukprairie.com/events/details/jenn-bostic-at-the-vines-26625
END:VEVENT

END:VCALENDAR
