BEGIN:VCALENDAR
VERSION:2.0
PRODID:-//ChamberMaster//Event Calendar 2.0//EN
METHOD:PUBLISH
X-PUBLISHED-TTL:P3D
REFRESH-INTERVAL:P3D
CALSCALE:GREGORIAN
BEGIN:VEVENT
DTSTART:20211031T000000Z
DTEND:20211031T020000Z
X-MICROSOFT-CDO-ALLDAYEVENT:FALSE
SUMMARY:Jim Witter: Fire and Rain (feat. the music of James Taylor and Carol King)
DESCRIPTION:Jim Witter: Fire and Rain\n\nSaturday\, October 30\, 2021 7pm\n\n$25/Adults\, $10/Students\n\nat the Sauk Prairie River Arts Center (105-9th Street\, Prairie du Sac)\n\nProlific singer-songwriters James Taylor and Carole King dominated the '70s airwaves with their singular vocals and lyrical brilliance. Now\, award-winning\, Juno-nominated artist Jim Witter returns to the River Arts Center stage for a 3rd time\, joined by his incredible band and the talented Giselle Sanderson. Together they will celebrate the timeless influence of Taylor and King\, whose songs earned them induction into the Songwriters Hall of Fame\, the Rock and Roll Hall of Fame\, and innumerable Grammy Awards. Get ready to ride a wave of emotion as Witter and Sanderson take concertgoers on a nostalgic musical journey with such unsurpassed tunes as "You've Got A Friend\," "It's Too Late\," "Shower The People\," and "Tapestry."
X-ALT-DESC;FMTTYPE=text/html:<p><strong>Jim Witter: Fire and Rain</strong></p>\n\n<p><strong>Saturday\, October 30\, 2021 7pm</strong></p>\n\n<p>$25/Adults\, $10/Students</p>\n\n<p><strong>at the Sauk Prairie River Arts Center (105-9th Street\, Prairie du Sac)</strong></p>\n\n<p>Prolific singer-songwriters James Taylor and Carole King dominated the &lsquo\;70s airwaves with their singular vocals and lyrical brilliance. Now\, award-winning\, Juno-nominated artist Jim Witter returns to the River Arts Center stage for a 3<span style="font-size:9.75px">rd</span>&nbsp\;time\, joined by his incredible band and the talented Giselle Sanderson. Together they will celebrate the timeless influence of Taylor and King\, whose songs earned them induction into the Songwriters Hall of Fame\, the Rock and Roll Hall of Fame\, and innumerable Grammy Awards. Get ready to ride a wave of emotion as Witter and Sanderson take concertgoers on a nostalgic musical journey with such unsurpassed tunes as &ldquo\;You&rsquo\;ve Got A Friend\,&rdquo\; &ldquo\;It&rsquo\;s Too Late\,&rdquo\; &ldquo\;Shower The People\,&rdquo\; and &ldquo\;Tapestry.&rdquo\;</p>\n
LOCATION:Sauk Prairie River Arts Center 105 9th St\, Prairie du Sac\, WI 53578
UID:e.1184.26908
SEQUENCE:3
DTSTAMP:20260421T215728Z
URL:http://members.saukprairie.com/events/details/jim-witter-fire-and-rain-feat-the-music-of-james-taylor-and-carol-king-26908
END:VEVENT

END:VCALENDAR
