BEGIN:VCALENDAR
VERSION:2.0
PRODID:-//ChamberMaster//Event Calendar 2.0//EN
METHOD:PUBLISH
X-PUBLISHED-TTL:P3D
REFRESH-INTERVAL:P3D
CALSCALE:GREGORIAN
BEGIN:VEVENT
DTSTART:20200318T200000Z
DTEND:20200318T223000Z
X-MICROSOFT-CDO-ALLDAYEVENT:FALSE
SUMMARY:CANCELED: Job Fair
DESCRIPTION:Join us in talking to "over 40" local employers.  Opportunities in construction\, food service\, hospitality\, manufacturing\, retail\, and more.  Full-Time\, Part-Time\, and Summer jobs available. Applicants from age 16 and up welcome.  Interviews on the spot. Hourly prizes!
X-ALT-DESC;FMTTYPE=text/html:Join us in talking to&nbsp\;&ldquo\;over 40&rdquo\; local employers.&nbsp\; Opportunities in construction\, food service\, hospitality\, manufacturing\, retail\, and more.&nbsp\; Full-Time\, Part-Time\, and Summer jobs available. Applicants from age 16 and up welcome.&nbsp\; Interviews on the spot. Hourly prizes!
LOCATION:Lange Center Gymnasium UW-Platteville Baraboo Sauk County
UID:e.1184.24035
SEQUENCE:3
DTSTAMP:20260423T025648Z
URL:http://members.saukprairie.com/events/details/job-fair-24035
END:VEVENT

END:VCALENDAR
