BEGIN:VCALENDAR
VERSION:2.0
PRODID:-//ChamberMaster//Event Calendar 2.0//EN
METHOD:PUBLISH
X-PUBLISHED-TTL:P3D
REFRESH-INTERVAL:P3D
CALSCALE:GREGORIAN
BEGIN:VEVENT
DTSTART:20231112T020000Z
DTEND:20231112T040000Z
X-MICROSOFT-CDO-ALLDAYEVENT:FALSE
SUMMARY:Job Fair
DESCRIPTION:Join the Sauk Prairie Healthcare's growing team\, known for surgical excellence\, at their state-of-the-art facility:\n\n	Surgical Technician\n	Surgical Technician Assistant\n	Surgical Technician Student\n\nApple online ahead of time or bring your resume and you may get an on-site interview.
X-ALT-DESC;FMTTYPE=text/html:Join the Sauk Prairie Healthcare&#39\;s growing team\, known for surgical excellence\, at their state-of-the-art facility:\n<ul>\n	<li>Surgical Technician</li>\n	<li>Surgical Technician Assistant</li>\n	<li>Surgical Technician Student</li>\n</ul>\nApple online ahead of time or bring your resume and you may get an on-site interview.
LOCATION:Sauk Prairie Hospital 260 26th Street Prairie du Sac
UID:e.1184.31216
SEQUENCE:3
DTSTAMP:20260420T044457Z
URL:http://members.saukprairie.com/events/details/job-fair-31216
END:VEVENT

END:VCALENDAR
