BEGIN:VCALENDAR
VERSION:2.0
PRODID:-//ChamberMaster//Event Calendar 2.0//EN
METHOD:PUBLISH
X-PUBLISHED-TTL:P3D
REFRESH-INTERVAL:P3D
CALSCALE:GREGORIAN
BEGIN:VEVENT
DTSTART:20160810T210000Z
DTEND:20160811T000000Z
X-MICROSOFT-CDO-ALLDAYEVENT:FALSE
SUMMARY:Join Us for Back to School Open Houses
DESCRIPTION:Food\, family fun\, hands-on activities.\n\n\n\nLearn about our programs\, meet staff\, students & instructors & tour our campus.\n\n\n\nOur mascot WOLFIE will be here too!!\n\n\n\nHighlights: --  Portage firefighter & fire truck\, Portage Police officer & car\, Lions' Club Stuff the Bus\n\n\n\nPrograms highlighted: --Industrial Maintenance\, Liberal Arts Transfer\, Criminal Justice\, Accounting\, Business Management\, Human Resource Management\, Nursing & MORE
X-ALT-DESC;FMTTYPE=text/html:<span style="font-family:calibri\,sans-serif\;"><span style="font-size:11.0pt\;">Food\, family fun\, hands-on activities.<br />\n<br />\nLearn about our programs\, meet staff\, students &amp\; instructors &amp\; tour our campus.<br />\n<br />\nOur mascot WOLFIE will be here too!!<br />\n<br />\nHighlights: --&nbsp\; Portage firefighter &amp\; fire truck\, Portage Police officer &amp\; car\, Lions&rsquo\; Club Stuff the Bus<br />\n<br />\nPrograms highlighted: --Industrial Maintenance\, Liberal Arts Transfer\, Criminal Justice\, Accounting\, Business Management\, Human Resource Management\, Nursing &amp\; MORE</span></span>
LOCATION:Portage Madison College\, 330 W. Collins St\, Portage
UID:e.1184.8882
SEQUENCE:3
DTSTAMP:20260425T224634Z
URL:http://members.saukprairie.com/events/details/join-us-for-back-to-school-open-houses-08-10-2016-8882
END:VEVENT

END:VCALENDAR
