BEGIN:VCALENDAR
VERSION:2.0
PRODID:-//ChamberMaster//Event Calendar 2.0//EN
METHOD:PUBLISH
X-PUBLISHED-TTL:P3D
REFRESH-INTERVAL:P3D
CALSCALE:GREGORIAN
BEGIN:VEVENT
DTSTART:20160811T210000Z
DTEND:20160812T000000Z
X-MICROSOFT-CDO-ALLDAYEVENT:FALSE
SUMMARY:Join Us for Back to School Open Houses
DESCRIPTION:Food\, family fun\, hands-on activities.\n\n\n\nLearn about our programs\, meet staff\, students & instructors & tour our campus.\n\n\n\nStart with US!  We are here for YOU!!\n\n\n\nReedsburg Campus is known for its outstanding nursing program\n\nPrograms highlighted:  ---  Nursing\, Criminal Justice\, Accounting\, Liberal Arts Transfer\, Business Management\, Human Resource Management\, & MORE
X-ALT-DESC;FMTTYPE=text/html:<p>Food\, family fun\, hands-on activities.<br />\n<br />\nLearn about our programs\, meet staff\, students &amp\; instructors &amp\; tour our campus.</p>\n\n<p><br />\nStart with US!&nbsp\; We are here for YOU!!<br />\n<br />\nReedsburg Campus is known for its outstanding nursing program<br />\nPrograms highlighted:&nbsp\; ---&nbsp\; Nursing\, Criminal Justice\, Accounting\, Liberal Arts Transfer\,&nbsp\;Business Management\, Human Resource Management\, &amp\; MORE</p>\n
LOCATION:Reedsburg Madison College\, 300 Alexander Ave\, Reedsburg
UID:e.1184.8883
SEQUENCE:3
DTSTAMP:20260425T210023Z
URL:http://members.saukprairie.com/events/details/join-us-for-back-to-school-open-houses-08-11-2016-8883
END:VEVENT

END:VCALENDAR
